BEGIN:VCALENDAR
VERSION:2.0
METHOD:PUBLISH
PRODID:-//Missouri State University/Calendar of Events//EN
CALSCALE:GREGORIAN
X-WR-TIMEZONE:America/Chicago
BEGIN:VTIMEZONE
TZID:America/Chicago
BEGIN:DAYLIGHT
TZOFFSETFROM:-0600
TZOFFSETTO:-0500
DTSTART:20070311T020000
RRULE:FREQ=YEARLY;BYMONTH=3;BYDAY=2SU
TZNAME:CDT
END:DAYLIGHT
BEGIN:STANDARD
TZOFFSETFROM:-0500
TZOFFSETTO:-0600
DTSTART:20071104T020000
RRULE:FREQ=YEARLY;BYMONTH=11;BYDAY=1SU
TZNAME:CST
END:STANDARD
END:VTIMEZONE
BEGIN:VEVENT
UID:ed47ab0e-f261-41c4-9181-02843dbb39f1.227989@calendar.missouristate.edu
CREATED:20230412T135059Z
LAST-MODIFIED:20230412T135059Z
LOCATION:Glass Hall\, David D. 486
SUMMARY:English Week: Undergraduate Literature Conference (ULC)
DESCRIPTION:The Department of English's Undergraduate Literature Conferenc
 e (ULC)\, held annually each spring\, welcomes undergraduate students fro
 m across the region to present their research in a public forum. The ULC 
 is free and open to the public.\n\n\nThursday\, April 20\n\n\n9:30-10:45 
 Gender &amp; Sexuality in Pop Culture\n\n\n11:00-12:15 Snack &amp; Chat about Dep
 artment of English programs and organization\n\n\n12:30-1:45 Race in Amer
 ican Literary and Intellectual History\n\n\n2:00-3:15 Gender &amp; Sexuality 
 in American Lit\n\n\n3:30-4:45 Medieval and Early Modern British Lit\n\n\
 nFriday\, April 21\n\n\n9:05-9:55 20th and 21st-Century Fictions\n\n\n10:
 10-11:00 Gender\, Sexuality &amp; History\n\n\n11:15-12:05 Snack &amp; Chat about
  Department of English programs and organization\n\n\n12:20-1:10 Represen
 ting Young Adults\n\n\n1:25-2:15 Graphic Narrative
X-ALT-DESC;FMTTYPE=text/html:&lt;html&gt;&lt;head&gt;&lt;title&gt;&lt;/title&gt;&lt;/head&gt;&lt;body&gt;&lt;p&gt;Th
 e Department of English's Undergraduate Literature Conference (ULC)\, hel
 d annually each spring\, welcomes undergraduate students from across the 
 region to present their research in a public forum. The ULC is free and o
 pen to the public.&lt;/p&gt;\n&lt;p&gt;&lt;strong&gt;Thursday\, April 20&lt;/strong&gt;&lt;/p&gt;\n&lt;p&gt;9
 :30-10:45 Gender &amp;amp\; Sexuality in Pop Culture&lt;/p&gt;\n&lt;p&gt;11:00-12:15 Snac
 k &amp;amp\; Chat about Department of English programs and organization&lt;/p&gt;\n
 &lt;p&gt;12:30-1:45 Race in American Literary and Intellectual History&lt;/p&gt;\n&lt;p&gt;
 2:00-3:15 Gender &amp;amp\; Sexuality in American Lit&lt;/p&gt;\n&lt;p&gt;3:30-4:45 Medie
 val and Early Modern British Lit&lt;/p&gt;\n&lt;p&gt;&lt;strong&gt;Friday\, April 21&lt;/stron
 g&gt;&lt;/p&gt;\n&lt;p&gt;9:05-9:55 20th and 21st-Century Fictions&lt;/p&gt;\n&lt;p&gt;10:10-11:00 G
 ender\, Sexuality &amp;amp\; History&lt;/p&gt;\n&lt;p&gt;11:15-12:05 Snack &amp;amp\; Chat ab
 out Department of English programs and organization&lt;/p&gt;\n&lt;p&gt;12:20-1:10 Re
 presenting Young Adults&lt;/p&gt;\n&lt;p&gt;1:25-2:15 Graphic Narrative&lt;/p&gt;&lt;/body&gt;&lt;/h
 tml&gt;
DTSTART;TZID=America/Chicago:20230421T093000
DTEND;TZID=America/Chicago:20230421T164500
SEQUENCE:0
URL:https://english.missouristate.edu/8th-annual-msu-undergraduate-literat
 ure-conference.htm
CATEGORIES:Public,Alumni,Current Students,Faculty,Future Students
END:VEVENT
END:VCALENDAR