BEGIN:VCALENDAR
VERSION:2.0
METHOD:PUBLISH
PRODID:-//Missouri State University/Calendar of Events//EN
CALSCALE:GREGORIAN
X-WR-TIMEZONE:America/Chicago
BEGIN:VTIMEZONE
TZID:America/Chicago
BEGIN:DAYLIGHT
TZOFFSETFROM:-0600
TZOFFSETTO:-0500
DTSTART:20070311T020000
RRULE:FREQ=YEARLY;BYMONTH=3;BYDAY=2SU
TZNAME:CDT
END:DAYLIGHT
BEGIN:STANDARD
TZOFFSETFROM:-0500
TZOFFSETTO:-0600
DTSTART:20071104T020000
RRULE:FREQ=YEARLY;BYMONTH=11;BYDAY=1SU
TZNAME:CST
END:STANDARD
END:VTIMEZONE
BEGIN:VEVENT
UID:118e8e1b-1eb0-4997-ae74-a9832781dc25.228002@calendar.missouristate.edu
CREATED:20230412T051504Z
LAST-MODIFIED:20230412T051504Z
LOCATION:\, Robert W. Plaster Stadium
SUMMARY:Missouri State University Football vs Maroon &amp; White Spring Game -
  1:00 p.m. - Tailgating &amp; FanFest
DESCRIPTION:Missouri State University Football plays Maroon &amp; White Spring
  Game - 1:00 p.m. - Tailgating &amp; FanFestTV: ESPN3
X-ALT-DESC;FMTTYPE=text/html:&lt;html&gt;&lt;head&gt;&lt;title&gt;&lt;/title&gt;&lt;/head&gt;&lt;body&gt;Misso
 uri State University Football plays Maroon &amp; White Spring Game - 1:00 p.m
 . - Tailgating &amp; FanFest&lt;br&gt;&lt;br&gt;TV: ESPN3&lt;/body&gt;&lt;/html&gt;
DTSTART;TZID=America/Chicago:20230415T160000
DTEND;TZID=America/Chicago:20230415T190000
SEQUENCE:0
URL:http://missouristatebears.com/index.aspx?path=football
CATEGORIES:Current Students,Future Students,Parents and Family,Alumni,
 Faculty,Staff,Community,Visitors,Athletics
END:VEVENT
END:VCALENDAR