BEGIN:VCALENDAR
VERSION:2.0
METHOD:PUBLISH
PRODID:-//Missouri State University/Calendar of Events//EN
CALSCALE:GREGORIAN
X-WR-TIMEZONE:America/Chicago
BEGIN:VTIMEZONE
TZID:America/Chicago
BEGIN:DAYLIGHT
TZOFFSETFROM:-0600
TZOFFSETTO:-0500
DTSTART:20070311T020000
RRULE:FREQ=YEARLY;BYMONTH=3;BYDAY=2SU
TZNAME:CDT
END:DAYLIGHT
BEGIN:STANDARD
TZOFFSETFROM:-0500
TZOFFSETTO:-0600
DTSTART:20071104T020000
RRULE:FREQ=YEARLY;BYMONTH=11;BYDAY=1SU
TZNAME:CST
END:STANDARD
END:VTIMEZONE
BEGIN:VEVENT
UID:524c8742-ebc4-4d15-b927-367404a92429.228003@calendar.missouristate.edu
CREATED:20230412T051505Z
LAST-MODIFIED:20230412T051505Z
LOCATION:Springfield\, Hammons Student Center - Volleyball
SUMMARY:Missouri State University Women's Volleyball vs Southwest Baptist
DESCRIPTION:Missouri State University Women's Volleyball plays Southwest B
 aptistTV: ESPN3
X-ALT-DESC;FMTTYPE=text/html:&lt;html&gt;&lt;head&gt;&lt;title&gt;&lt;/title&gt;&lt;/head&gt;&lt;body&gt;Misso
 uri State University Women's Volleyball plays Southwest Baptist&lt;br&gt;&lt;br&gt;TV
 : ESPN3&lt;/body&gt;&lt;/html&gt;
DTSTART;TZID=America/Chicago:20230422T100000
DTEND;TZID=America/Chicago:20230422T120000
SEQUENCE:3
URL:http://missouristatebears.com/index.aspx?path=wvball
CATEGORIES:Current Students,Future Students,Parents and Family,Alumni,
 Faculty,Staff,Community,Visitors,Athletics
END:VEVENT
END:VCALENDAR