BEGIN:VCALENDAR
VERSION:2.0
METHOD:PUBLISH
PRODID:-//Missouri State University/Calendar of Events//EN
CALSCALE:GREGORIAN
X-WR-TIMEZONE:America/Chicago
BEGIN:VTIMEZONE
TZID:America/Chicago
BEGIN:DAYLIGHT
TZOFFSETFROM:-0600
TZOFFSETTO:-0500
DTSTART:20070311T020000
RRULE:FREQ=YEARLY;BYMONTH=3;BYDAY=2SU
TZNAME:CDT
END:DAYLIGHT
BEGIN:STANDARD
TZOFFSETFROM:-0500
TZOFFSETTO:-0600
DTSTART:20071104T020000
RRULE:FREQ=YEARLY;BYMONTH=11;BYDAY=1SU
TZNAME:CST
END:STANDARD
END:VTIMEZONE
BEGIN:VEVENT
UID:87cfc60c-ba8e-4cfc-acce-e76902d25857.228008@calendar.missouristate.edu
CREATED:20230412T211013Z
LAST-MODIFIED:20230412T211013Z
LOCATION:Plaster Student Union\, Robert W. PSU North Mall
SUMMARY:SAC Presents: MO State Fair
DESCRIPTION:Come and have fun with SAC\, TC\, and RHA at MO State Fair!\n\
 n\nThere will be balloon animals\, caricatures\, free food\, a mehanical 
 bull\, DJ\, rock climbing wall\, and more! 
X-ALT-DESC;FMTTYPE=text/html:&lt;html&gt;&lt;head&gt;&lt;title&gt;&lt;/title&gt;&lt;/head&gt;&lt;body&gt;&lt;p&gt;Co
 me and have fun with SAC\, TC\, and RHA at MO State Fair!&lt;/p&gt;\n&lt;p&gt;There w
 ill be balloon animals\, caricatures\, free food\, a mehanical bull\, DJ\
 , rock climbing wall\, and more!&amp;nbsp\;&lt;/p&gt;&lt;/body&gt;&lt;/html&gt;
DTSTART;TZID=America/Chicago:20230420T190000
DTEND;TZID=America/Chicago:20230420T220000
SEQUENCE:0
URL:119477.jpg
CATEGORIES:Current Students,Faculty,Staff
END:VEVENT
END:VCALENDAR