BEGIN:VCALENDAR
VERSION:2.0
METHOD:PUBLISH
PRODID:-//Missouri State University/Calendar of Events//EN
CALSCALE:GREGORIAN
X-WR-TIMEZONE:America/Chicago
BEGIN:VTIMEZONE
TZID:America/Chicago
BEGIN:DAYLIGHT
TZOFFSETFROM:-0600
TZOFFSETTO:-0500
DTSTART:20070311T020000
RRULE:FREQ=YEARLY;BYMONTH=3;BYDAY=2SU
TZNAME:CDT
END:DAYLIGHT
BEGIN:STANDARD
TZOFFSETFROM:-0500
TZOFFSETTO:-0600
DTSTART:20071104T020000
RRULE:FREQ=YEARLY;BYMONTH=11;BYDAY=1SU
TZNAME:CST
END:STANDARD
END:VTIMEZONE
BEGIN:VEVENT
UID:f5068938-fd57-42f9-8779-41356b4154a0.228011@calendar.missouristate.edu
CREATED:20230412T210825Z
LAST-MODIFIED:20230412T210825Z
LOCATION:Plaster Student Union\, Robert W. All around campus
SUMMARY:SAC Presents: PA on the Street
DESCRIPTION:Answer trivia questions about MSU and Public Affairs for the c
 hance to win candy and gift cards!\n\n\nCatch us at various locations on 
 campus riding a golf cart to participate! 
X-ALT-DESC;FMTTYPE=text/html:&lt;html&gt;&lt;head&gt;&lt;title&gt;&lt;/title&gt;&lt;/head&gt;&lt;body&gt;&lt;p&gt;An
 swer trivia questions about MSU and Public Affairs for the chance to win 
 candy and gift cards!&lt;/p&gt;\n&lt;p&gt;Catch us at various locations on campus rid
 ing a golf cart to participate!&amp;nbsp\;&lt;/p&gt;&lt;/body&gt;&lt;/html&gt;
DTSTART;TZID=America/Chicago:20230502T110000
DTEND;TZID=America/Chicago:20230502T140000
SEQUENCE:0
URL:119480.png
CATEGORIES:Alumni,Current Students,Faculty,Future Students,Staff
END:VEVENT
END:VCALENDAR