BEGIN:VCALENDAR
VERSION:2.0
METHOD:PUBLISH
PRODID:-//Missouri State University/Calendar of Events//EN
CALSCALE:GREGORIAN
X-WR-TIMEZONE:America/Chicago
BEGIN:VTIMEZONE
TZID:America/Chicago
BEGIN:DAYLIGHT
TZOFFSETFROM:-0600
TZOFFSETTO:-0500
DTSTART:20070311T020000
RRULE:FREQ=YEARLY;BYMONTH=3;BYDAY=2SU
TZNAME:CDT
END:DAYLIGHT
BEGIN:STANDARD
TZOFFSETFROM:-0500
TZOFFSETTO:-0600
DTSTART:20071104T020000
RRULE:FREQ=YEARLY;BYMONTH=11;BYDAY=1SU
TZNAME:CST
END:STANDARD
END:VTIMEZONE
BEGIN:VEVENT
UID:1c23d70c-3cb2-4120-b718-bb3c2978c5e4.228012@calendar.missouristate.edu
CREATED:20230413T213317Z
LAST-MODIFIED:20230413T213317Z
LOCATION:
SUMMARY:10th Annual MSU Hope on Wheels Car Show
DESCRIPTION:Join us for the 10th Annual MSU Hope on Wheels Car Show!We are
  helping to raise money for Convoy of Hope\, a nonprofit humanitarian and
  disaster relief organization. There will be games\, food and fun.
X-ALT-DESC;FMTTYPE=text/html:&lt;html&gt;&lt;head&gt;&lt;title&gt;&lt;/title&gt;&lt;/head&gt;&lt;body&gt;&lt;p&gt;Jo
 in us for the 10th Annual MSU Hope on Wheels Car Show!&lt;br&gt;&lt;br&gt;We are help
 ing to raise money for Convoy of Hope\, a nonprofit humanitarian and disa
 ster relief organization.&amp;nbsp\;&lt;br&gt;&lt;br&gt;There will be games\, food and fu
 n. &lt;/p&gt;&lt;/body&gt;&lt;/html&gt;
DTSTART;TZID=America/Chicago:20230422T083000
DTEND;TZID=America/Chicago:20230422T143000
SEQUENCE:1
URL:119481.png
CATEGORIES:Public,Alumni,Current Students,Faculty,Future Students,Staff
END:VEVENT
END:VCALENDAR