BEGIN:VCALENDAR
VERSION:2.0
METHOD:PUBLISH
PRODID:-//Missouri State University/Calendar of Events//EN
CALSCALE:GREGORIAN
X-WR-TIMEZONE:America/Chicago
BEGIN:VTIMEZONE
TZID:America/Chicago
BEGIN:DAYLIGHT
TZOFFSETFROM:-0600
TZOFFSETTO:-0500
DTSTART:20070311T020000
RRULE:FREQ=YEARLY;BYMONTH=3;BYDAY=2SU
TZNAME:CDT
END:DAYLIGHT
BEGIN:STANDARD
TZOFFSETFROM:-0500
TZOFFSETTO:-0600
DTSTART:20071104T020000
RRULE:FREQ=YEARLY;BYMONTH=11;BYDAY=1SU
TZNAME:CST
END:STANDARD
END:VTIMEZONE
BEGIN:VEVENT
UID:f8fed4ef-4cfe-4677-a3b9-1c7b7f7ea79a.228013@calendar.missouristate.edu
CREATED:20230420T193400Z
LAST-MODIFIED:20230420T193400Z
LOCATION:
SUMMARY:6th Annual Missouri Humanities Symposium: Keynote with Candacy Tay
 lor
DESCRIPTION:Join the Missouri Humanities Council and keynote presenter Can
 dacy Taylor for an engaging discussion on the legacy and history of the G
 reen Book in the Ozark region.\n\n\nCandacy Taylor is a photographer\, cu
 ltural documentarian and author of the bestselling book\, "Overground Rai
 lroad: The Green Book and the Roots of Black Travel in America." Taylor’s
  talk will feature the Green Book as a life-saving tool that not only kep
 t Black motorists safe\, but it also inspired Black entrepreneurship\, pr
 ide and resiliency. \n\n\nTaylor is the curator and content specialist fo
 r Negro Motorist Green Book\, a 3500-square-foot exhibition that is being
  toured by the Smithsonian Institution Traveling Exhibition Service (SITE
 S) from 2020-2024. Taylor’s projects have been funded by numerous organiz
 ations\, including The Library of Congress\, National Geographic\, The Na
 tional Endowment for the Humanities\, The National Park Service and The N
 ational Trust. Her work has been featured in over 80 media outlets and sh
 e was awarded a fellowship from the Hutchins Center at Harvard University
  under the direction of Henry Louis Gates Jr.
X-ALT-DESC;FMTTYPE=text/html:&lt;html&gt;&lt;head&gt;&lt;title&gt;&lt;/title&gt;&lt;/head&gt;&lt;body&gt;&lt;p&gt;&lt;s
 pan&gt;Join&amp;nbsp\;the Missouri Humanities Council&lt;/span&gt;&amp;nbsp\;and keynote p
 resenter Candacy Taylor for an engaging discussion on the legacy and hist
 ory of the Green Book in the Ozark region.&lt;/p&gt;\n&lt;p&gt;Candacy Taylor is a ph
 otographer\, cultural documentarian and author of the bestselling book\, 
 "Overground Railroad: The Green Book and the Roots of Black Travel in Ame
 rica&lt;em&gt;." &lt;/em&gt;Taylor’s talk will feature the Green Book as a life-savin
 g tool that not&amp;nbsp\;&lt;span&gt;only&lt;/span&gt;&amp;nbsp\;kept Black motorists safe\,
  but it also inspired Black entrepreneurship\, pride and resiliency.&amp;nbsp
 \;&lt;/p&gt;\n&lt;p&gt;&lt;span&gt;Taylor is the curator and content specialist for Negro M
 otorist Green Book\, a 3500-square-foot exhibition that is being toured b
 y the Smithsonian Institution Traveling Exhibition Service (SITES) from 2
 020-2024. Taylor’s projects have been funded by numerous organizations\, 
 including The Library of Congress\, National Geographic\, The National En
 dowment for the Humanities\, The National Park Service and The National T
 rust. Her work has been featured in over 80 media outlets and she was awa
 rded a fellowship from the Hutchins Center at Harvard University under th
 e direction of Henry Louis Gates Jr.&lt;/span&gt;&lt;/p&gt;&lt;/body&gt;&lt;/html&gt;
DTSTART;TZID=America/Chicago:20230428T190000
DTEND;TZID=America/Chicago:20230428T210000
SEQUENCE:1
URL:https://bit.ly/3UnEbLI
CATEGORIES:Public,Alumni,Faculty,Staff
END:VEVENT
END:VCALENDAR