BEGIN:VCALENDAR
VERSION:2.0
METHOD:PUBLISH
PRODID:-//Missouri State University/Calendar of Events//EN
CALSCALE:GREGORIAN
X-WR-TIMEZONE:America/Chicago
BEGIN:VTIMEZONE
TZID:America/Chicago
BEGIN:DAYLIGHT
TZOFFSETFROM:-0600
TZOFFSETTO:-0500
DTSTART:20070311T020000
RRULE:FREQ=YEARLY;BYMONTH=3;BYDAY=2SU
TZNAME:CDT
END:DAYLIGHT
BEGIN:STANDARD
TZOFFSETFROM:-0500
TZOFFSETTO:-0600
DTSTART:20071104T020000
RRULE:FREQ=YEARLY;BYMONTH=11;BYDAY=1SU
TZNAME:CST
END:STANDARD
END:VTIMEZONE
BEGIN:VEVENT
UID:1816ae8b-c2ed-4141-b42e-efa4b5eac4ce.228014@calendar.missouristate.edu
CREATED:20230417T161205Z
LAST-MODIFIED:20230417T161205Z
LOCATION:Plaster Student Union\, Robert W. Union Club PSU400
SUMMARY:Breaking the Silence Worship Service
DESCRIPTION:Say the Words\, Work for Change and Support the Survivors.\n\n
 \nThis is a special worship service designed to support and listen to vic
 tims of sexual assault and rape. Come\, support\, listen and share if you
  desire space to do so. We will listen.
X-ALT-DESC;FMTTYPE=text/html:&lt;html&gt;&lt;head&gt;&lt;title&gt;&lt;/title&gt;&lt;/head&gt;&lt;body&gt;&lt;p&gt;&lt;s
 trong&gt;Say the Words\, Work for Change and Support the Survivors.&lt;/strong&gt;
 &lt;/p&gt;\n&lt;p&gt;&lt;span&gt;This is a special worship service designed to support and 
 listen to victims of sexual assault and rape. Come\, support\, listen and
  share if you desire space to do so. We will listen.&lt;/span&gt;&lt;/p&gt;\n&lt;p&gt;&lt;/p&gt;&lt;
 /body&gt;&lt;/html&gt;
DTSTART;TZID=America/Chicago:20230418T200000
DTEND;TZID=America/Chicago:20230418T210000
SEQUENCE:0
URL:http://www.ekklesiamsu.org
CATEGORIES:Public,Alumni,Current Students,Faculty,Future Students,Staff
END:VEVENT
END:VCALENDAR