BEGIN:VCALENDAR
VERSION:2.0
METHOD:PUBLISH
PRODID:-//Missouri State University/Calendar of Events//EN
CALSCALE:GREGORIAN
X-WR-TIMEZONE:America/Chicago
BEGIN:VTIMEZONE
TZID:America/Chicago
BEGIN:DAYLIGHT
TZOFFSETFROM:-0600
TZOFFSETTO:-0500
DTSTART:20070311T020000
RRULE:FREQ=YEARLY;BYMONTH=3;BYDAY=2SU
TZNAME:CDT
END:DAYLIGHT
BEGIN:STANDARD
TZOFFSETFROM:-0500
TZOFFSETTO:-0600
DTSTART:20071104T020000
RRULE:FREQ=YEARLY;BYMONTH=11;BYDAY=1SU
TZNAME:CST
END:STANDARD
END:VTIMEZONE
BEGIN:VEVENT
UID:70462153-da99-4666-a55e-a2f8eaca0828.228046@calendar.missouristate.edu
CREATED:20230421T173705Z
LAST-MODIFIED:20230421T173705Z
LOCATION:
SUMMARY:My Career as a Federal Reserve Bank Examiner
DESCRIPTION:The Honors College and the Honor Society of Phi Kappa Phi prou
 dly present:\n\n\n\n\n\nMy Career as a Federal Reserve Bank Examiner\n\n\
 nOlivia C. Fernandez\, Examiner\n\n\nFederal Reserve Board of Kansas City
 \n\n\n\n\n\nMs. Fernandez earned Bachelors degrees in Finance and Modern 
 Language and her MBA at Missouri State University. She has worked as a ba
 nk examiner with the Federal Reserve Board since 2018.\n\n\n\n\n\nTuesdy\
 , May 2nd\n\n\n7:00 PM\n\n\nZoom seminar: https://missouristate.zoom.us/j
 /95040617830
X-ALT-DESC;FMTTYPE=text/html:&lt;html&gt;&lt;head&gt;&lt;title&gt;&lt;/title&gt;&lt;/head&gt;&lt;body&gt;&lt;p&gt;Th
 e Honors College and the Honor Society of Phi Kappa Phi proudly present:&lt;
 /p&gt;\n&lt;p&gt;&lt;/p&gt;\n&lt;p&gt;&lt;em&gt;My Career as a Federal Reserve Bank Examiner&lt;/em&gt;&lt;/p
 &gt;\n&lt;p&gt;Olivia C. Fernandez\, Examiner&lt;/p&gt;\n&lt;p&gt;Federal Reserve Board of Kan
 sas City&lt;/p&gt;\n&lt;p&gt;&lt;/p&gt;\n&lt;p&gt;Ms. Fernandez earned Bachelors degrees in Finan
 ce and Modern Language and her MBA at Missouri State University. She has 
 worked as a bank examiner with the Federal Reserve Board since 2018.&lt;/p&gt;\
 n&lt;p&gt;&lt;/p&gt;\n&lt;p&gt;Tuesdy\, May 2nd&lt;/p&gt;\n&lt;p&gt;7:00 PM&lt;/p&gt;\n&lt;p&gt;Zoom seminar:&amp;nbsp\
 ;&lt;a href="https://missouristate.zoom.us/j/95040617830"&gt;https://missourist
 ate.zoom.us/j/95040617830&lt;/a&gt;&lt;/p&gt;\n&lt;p&gt;&lt;/p&gt;&lt;/body&gt;&lt;/html&gt;
DTSTART;TZID=America/Chicago:20230502T190000
DTEND;TZID=America/Chicago:20230502T200000
SEQUENCE:0
URL:https://missouristate.zoom.us/j/95040617830
CATEGORIES:Public,Alumni,Current Students,Faculty,Future Students,Staff
END:VEVENT
END:VCALENDAR