BEGIN:VCALENDAR
VERSION:2.0
METHOD:PUBLISH
PRODID:-//Missouri State University/Calendar of Events//EN
CALSCALE:GREGORIAN
X-WR-TIMEZONE:America/Chicago
BEGIN:VTIMEZONE
TZID:America/Chicago
BEGIN:DAYLIGHT
TZOFFSETFROM:-0600
TZOFFSETTO:-0500
DTSTART:20070311T020000
RRULE:FREQ=YEARLY;BYMONTH=3;BYDAY=2SU
TZNAME:CDT
END:DAYLIGHT
BEGIN:STANDARD
TZOFFSETFROM:-0500
TZOFFSETTO:-0600
DTSTART:20071104T020000
RRULE:FREQ=YEARLY;BYMONTH=11;BYDAY=1SU
TZNAME:CST
END:STANDARD
END:VTIMEZONE
BEGIN:VEVENT
UID:00000000-0000-0000-0000-000000000000.228067@calendar.missouristate.edu
CREATED:20230425T194543Z
LAST-MODIFIED:20230425T194543Z
LOCATION:To Be Determined
SUMMARY:Carnegie Hall Alumni Reception New York City
DESCRIPTION:The Carnegie Hall Reception will celebrate the Choral Union’s 
 inaugural performance at one\nof New York’s most eminent music halls.
X-ALT-DESC;FMTTYPE=text/html:&lt;html&gt;&lt;head&gt;&lt;title&gt;&lt;/title&gt;&lt;/head&gt;&lt;body&gt;The C
 arnegie Hall Reception will celebrate the Choral Union&amp;rsquo\;s inaugural
  performance at one&lt;br&gt;\nof New York&amp;rsquo\;s most eminent music halls.&lt;/
 body&gt;&lt;/html&gt;
DTSTART;TZID=America/Chicago:20230625T123000
DTEND;TZID=America/Chicago:20230625T133000
SEQUENCE:0
URL:https://missouristate.imodules.com?sid=1691&amp;gid=2&amp;pgid=3125&amp;cid=5456&amp;e
 cid=5456&amp;ciid=18753&amp;crid=0
CATEGORIES:Public,Alumni,Parents and Family,Visitors
END:VEVENT
END:VCALENDAR