BEGIN:VCALENDAR
VERSION:2.0
METHOD:PUBLISH
PRODID:-//Missouri State University/Calendar of Events//EN
CALSCALE:GREGORIAN
X-WR-TIMEZONE:America/Chicago
BEGIN:VTIMEZONE
TZID:America/Chicago
BEGIN:DAYLIGHT
TZOFFSETFROM:-0600
TZOFFSETTO:-0500
DTSTART:20070311T020000
RRULE:FREQ=YEARLY;BYMONTH=3;BYDAY=2SU
TZNAME:CDT
END:DAYLIGHT
BEGIN:STANDARD
TZOFFSETFROM:-0500
TZOFFSETTO:-0600
DTSTART:20071104T020000
RRULE:FREQ=YEARLY;BYMONTH=11;BYDAY=1SU
TZNAME:CST
END:STANDARD
END:VTIMEZONE
BEGIN:VEVENT
UID:d5315cfd-0da1-48ec-ac87-c3dc554d8223.228068@calendar.missouristate.edu
CREATED:20230425T202359Z
LAST-MODIFIED:20230425T202359Z
LOCATION:Hammons Hall for the Performing Arts\, Juanita K.
SUMMARY:SAC Presents: Waka Flocka Flame
DESCRIPTION:Students must bring and show their bear pass ID IN PERSON to g
 et a $10 ticket. Get your tickets at Hammons Hall\, Craig Hall Box Office
 s\, or online for the public! Backup locaton is PSU Theatre in case of ou
 tside conflicts\, so be on the lookout!
X-ALT-DESC;FMTTYPE=text/html:&lt;html&gt;&lt;head&gt;&lt;title&gt;&lt;/title&gt;&lt;/head&gt;&lt;body&gt;&lt;p&gt;St
 udents must bring and show their bear pass ID IN PERSON to get a $10 tick
 et. Get your tickets at Hammons Hall\, Craig&amp;nbsp\;Hall Box Offices\, or 
 online for the public! Backup locaton is PSU Theatre in case of outside c
 onflicts\, so be on the lookout!&lt;/p&gt;&lt;/body&gt;&lt;/html&gt;
DTSTART;TZID=America/Chicago:20230503T190000
DTEND;TZID=America/Chicago:20230503T220000
SEQUENCE:0
URL:119500.jpg
CATEGORIES:Public,Alumni,Current Students,Faculty,Future Students,Staff
END:VEVENT
END:VCALENDAR