BEGIN:VCALENDAR
VERSION:2.0
METHOD:PUBLISH
PRODID:-//Missouri State University/Calendar of Events//EN
CALSCALE:GREGORIAN
X-WR-TIMEZONE:America/Chicago
BEGIN:VTIMEZONE
TZID:America/Chicago
BEGIN:DAYLIGHT
TZOFFSETFROM:-0600
TZOFFSETTO:-0500
DTSTART:20070311T020000
RRULE:FREQ=YEARLY;BYMONTH=3;BYDAY=2SU
TZNAME:CDT
END:DAYLIGHT
BEGIN:STANDARD
TZOFFSETFROM:-0500
TZOFFSETTO:-0600
DTSTART:20071104T020000
RRULE:FREQ=YEARLY;BYMONTH=11;BYDAY=1SU
TZNAME:CST
END:STANDARD
END:VTIMEZONE
BEGIN:VEVENT
UID:982fe542-376a-4db6-a963-11b3956bcb28.228069@calendar.missouristate.edu
CREATED:20230425T204154Z
LAST-MODIFIED:20230425T204154Z
LOCATION:Plaster Student Union\, Robert W. North Mall and Blair Shannon La
 wn
SUMMARY:SAC Presents: May Day
DESCRIPTION:Join SGA\, TC\, and SAC for the celebration of the end of the 
 semester! There will be food\, games\, prizes\, rides\, and much more! 
X-ALT-DESC;FMTTYPE=text/html:&lt;html&gt;&lt;head&gt;&lt;title&gt;&lt;/title&gt;&lt;/head&gt;&lt;body&gt;&lt;p&gt;Jo
 in SGA\, TC\, and SAC for the celebration of the end of the semester! The
 re will be food\, games\, prizes\, rides\, and&amp;nbsp\;much more!&amp;nbsp\;&lt;/p
 &gt;&lt;/body&gt;&lt;/html&gt;
DTSTART;TZID=America/Chicago:20230510T110000
DTEND;TZID=America/Chicago:20230510T170000
SEQUENCE:0
URL:119501.png
CATEGORIES:Current Students,Faculty,Staff
END:VEVENT
END:VCALENDAR