BEGIN:VCALENDAR
VERSION:2.0
METHOD:PUBLISH
PRODID:-//Missouri State University/Calendar of Events//EN
CALSCALE:GREGORIAN
X-WR-TIMEZONE:America/Chicago
BEGIN:VTIMEZONE
TZID:America/Chicago
BEGIN:DAYLIGHT
TZOFFSETFROM:-0600
TZOFFSETTO:-0500
DTSTART:20070311T020000
RRULE:FREQ=YEARLY;BYMONTH=3;BYDAY=2SU
TZNAME:CDT
END:DAYLIGHT
BEGIN:STANDARD
TZOFFSETFROM:-0500
TZOFFSETTO:-0600
DTSTART:20071104T020000
RRULE:FREQ=YEARLY;BYMONTH=11;BYDAY=1SU
TZNAME:CST
END:STANDARD
END:VTIMEZONE
BEGIN:VEVENT
UID:00000000-0000-0000-0000-000000000000.228071@calendar.missouristate.edu
CREATED:20230427T164507Z
LAST-MODIFIED:20230427T164507Z
LOCATION:To Be Determined
SUMMARY:Alumni &amp; Friends Picnic
DESCRIPTION:Missouri State-West Plains will kick off its 60th Anniversary 
 celebration with an Alumni &amp; Friends Picnic. All Grizzly fans\, West Plai
 ns and Springfield alumni and community members are invited.\n\n\n 
X-ALT-DESC;FMTTYPE=text/html:&lt;html&gt;&lt;head&gt;&lt;title&gt;&lt;/title&gt;&lt;/head&gt;&lt;body&gt;&lt;p&gt;Mi
 ssouri State-West Plains will kick off its 60th Anniversary celebration w
 ith an Alumni &amp;amp\; Friends Picnic. All Grizzly fans\, West Plains and S
 pringfield alumni and community members are invited.&lt;/p&gt;\n&lt;p&gt;&amp;nbsp\;&lt;/p&gt;&lt;
 /body&gt;&lt;/html&gt;
DTSTART;TZID=America/Chicago:20230504T170000
DTEND;TZID=America/Chicago:20230504T190000
SEQUENCE:0
URL:https://missouristate.imodules.com?sid=1691&amp;gid=2&amp;pgid=3116&amp;cid=5444&amp;e
 cid=5444&amp;ciid=18272&amp;crid=0
CATEGORIES:Public,Alumni,Parents and Family,Visitors
END:VEVENT
END:VCALENDAR