BEGIN:VCALENDAR
VERSION:2.0
METHOD:PUBLISH
PRODID:-//Missouri State University/Calendar of Events//EN
CALSCALE:GREGORIAN
X-WR-TIMEZONE:America/Chicago
BEGIN:VTIMEZONE
TZID:America/Chicago
BEGIN:DAYLIGHT
TZOFFSETFROM:-0600
TZOFFSETTO:-0500
DTSTART:20070311T020000
RRULE:FREQ=YEARLY;BYMONTH=3;BYDAY=2SU
TZNAME:CDT
END:DAYLIGHT
BEGIN:STANDARD
TZOFFSETFROM:-0500
TZOFFSETTO:-0600
DTSTART:20071104T020000
RRULE:FREQ=YEARLY;BYMONTH=11;BYDAY=1SU
TZNAME:CST
END:STANDARD
END:VTIMEZONE
BEGIN:VEVENT
UID:4931145e-983c-43da-bc92-5fed4c6a82e8.228075@calendar.missouristate.edu
CREATED:20230428T132339Z
LAST-MODIFIED:20230428T132339Z
LOCATION:Plaster Student Union\, Robert W. PSU Theater
SUMMARY:SAC Presents: Asian American Pacific Islander Heritage Month Speak
 er
DESCRIPTION:Speaker: Nicole Ponseca\, a leader and trailblazer in the Asia
 n/Pacific American and Filipino space.\n\n\nThere will be free food and p
 rizes:\n\n\n\nHer cookbook\, "I Am A Filipino: And This Is How We Cook"\n
 A rice cooker\nA $100 Bawi gift card
X-ALT-DESC;FMTTYPE=text/html:&lt;html&gt;&lt;head&gt;&lt;title&gt;&lt;/title&gt;&lt;/head&gt;&lt;body&gt;&lt;p&gt;Sp
 eaker: Nicole Ponseca\, a leader and trailblazer in the Asian/Pacific Ame
 rican and Filipino space.&lt;/p&gt;\n&lt;p&gt;There will be free food and prizes:&lt;/p&gt;
 \n&lt;ul&gt;\n&lt;li&gt;Her cookbook\, "I Am A Filipino: And This Is How We Cook"&lt;/li
 &gt;\n&lt;li&gt;A rice cooker&lt;/li&gt;\n&lt;li&gt;A $100 Bawi gift card&lt;/li&gt;\n&lt;/ul&gt;&lt;/body&gt;&lt;/
 html&gt;
DTSTART;TZID=America/Chicago:20230508T190000
DTEND;TZID=America/Chicago:20230508T200000
SEQUENCE:0
URL:119507.jpg
CATEGORIES:Public,Alumni,Current Students,Faculty,Future Students,Staff
END:VEVENT
END:VCALENDAR