BEGIN:VCALENDAR
VERSION:2.0
METHOD:PUBLISH
PRODID:-//Missouri State University/Calendar of Events//EN
CALSCALE:GREGORIAN
X-WR-TIMEZONE:America/Chicago
BEGIN:VTIMEZONE
TZID:America/Chicago
BEGIN:DAYLIGHT
TZOFFSETFROM:-0600
TZOFFSETTO:-0500
DTSTART:20070311T020000
RRULE:FREQ=YEARLY;BYMONTH=3;BYDAY=2SU
TZNAME:CDT
END:DAYLIGHT
BEGIN:STANDARD
TZOFFSETFROM:-0500
TZOFFSETTO:-0600
DTSTART:20071104T020000
RRULE:FREQ=YEARLY;BYMONTH=11;BYDAY=1SU
TZNAME:CST
END:STANDARD
END:VTIMEZONE
BEGIN:VEVENT
UID:ad6dcb1f-dfba-43bb-8c00-33122e225f0c.228091@calendar.missouristate.edu
CREATED:20230502T162113Z
LAST-MODIFIED:20230502T162113Z
LOCATION:Glass Hall\, David D. 101
SUMMARY:Graduate College 3MT Competition
DESCRIPTION:Join us for the 8th Annual 3MT Competition.\n\n\nThe winner of
  the 3MT competition will represent Missouri State University at the regi
 onal competition during the Midwest Association of Graduate Schools (MAGS
 ) annual conference.  
X-ALT-DESC;FMTTYPE=text/html:&lt;html&gt;&lt;head&gt;&lt;title&gt;&lt;/title&gt;&lt;/head&gt;&lt;body&gt;&lt;p&gt;&lt;s
 pan&gt;Join us for the 8th Annual 3MT Competition.&lt;/span&gt;&lt;/p&gt;\n&lt;p&gt;The winner
  of the 3MT competition will represent Missouri State University at the r
 egional competition during the &lt;a href="https://mags-net.org/" target="_b
 lank" rel="noopener"&gt;Midwest Association of Graduate Schools (MAGS) &lt;/a&gt;a
 nnual conference.&amp;nbsp\;&amp;nbsp\;&lt;/p&gt;\n&lt;p&gt;&lt;/p&gt;&lt;/body&gt;&lt;/html&gt;
DTSTART;TZID=America/Chicago:20231103T170000
DTEND;TZID=America/Chicago:20231103T190000
SEQUENCE:0
URL:https://graduate.missouristate.edu/CurrentStudents/3-minute-thesis.htm
CATEGORIES:Public,Alumni,Current Students,Faculty,Future Students
END:VEVENT
END:VCALENDAR