BEGIN:VCALENDAR
VERSION:2.0
METHOD:PUBLISH
PRODID:-//Missouri State University/Calendar of Events//EN
CALSCALE:GREGORIAN
X-WR-TIMEZONE:America/Chicago
BEGIN:VTIMEZONE
TZID:America/Chicago
BEGIN:DAYLIGHT
TZOFFSETFROM:-0600
TZOFFSETTO:-0500
DTSTART:20070311T020000
RRULE:FREQ=YEARLY;BYMONTH=3;BYDAY=2SU
TZNAME:CDT
END:DAYLIGHT
BEGIN:STANDARD
TZOFFSETFROM:-0500
TZOFFSETTO:-0600
DTSTART:20071104T020000
RRULE:FREQ=YEARLY;BYMONTH=11;BYDAY=1SU
TZNAME:CST
END:STANDARD
END:VTIMEZONE
BEGIN:VEVENT
UID:6c752e0c-c220-4b68-9076-6ae9bea277fe.228092@calendar.missouristate.edu
CREATED:20230502T190605Z
LAST-MODIFIED:20230502T190605Z
LOCATION:Plaster Student Union\, Robert W. Ballroom East
SUMMARY:Come-and-go retirement reception for Dr. Tom Tomasi
DESCRIPTION:Thursday\, May 4   4:00 - 6:00 p.m.  Plaster Student Union Bal
 lroom East
X-ALT-DESC;FMTTYPE=text/html:&lt;html&gt;&lt;head&gt;&lt;title&gt;&lt;/title&gt;&lt;/head&gt;&lt;body&gt;&lt;p&gt;Th
 ursday\, May 4&amp;nbsp\;&amp;nbsp\; 4:00 - 6:00 p.m.&amp;nbsp\; Plaster Student Unio
 n Ballroom East&lt;/p&gt;&lt;/body&gt;&lt;/html&gt;
DTSTART;TZID=America/Chicago:20230504T160000
DTEND;TZID=America/Chicago:20230504T180000
SEQUENCE:0
URL:
CATEGORIES:Public,Alumni,Faculty,Staff
END:VEVENT
END:VCALENDAR