BEGIN:VCALENDAR
VERSION:2.0
METHOD:PUBLISH
PRODID:-//Missouri State University/Calendar of Events//EN
CALSCALE:GREGORIAN
X-WR-TIMEZONE:America/Chicago
BEGIN:VTIMEZONE
TZID:America/Chicago
BEGIN:DAYLIGHT
TZOFFSETFROM:-0600
TZOFFSETTO:-0500
DTSTART:20070311T020000
RRULE:FREQ=YEARLY;BYMONTH=3;BYDAY=2SU
TZNAME:CDT
END:DAYLIGHT
BEGIN:STANDARD
TZOFFSETFROM:-0500
TZOFFSETTO:-0600
DTSTART:20071104T020000
RRULE:FREQ=YEARLY;BYMONTH=11;BYDAY=1SU
TZNAME:CST
END:STANDARD
END:VTIMEZONE
BEGIN:VEVENT
UID:5e507e22-e06c-48b9-bb21-fce18f4f4293.228093@calendar.missouristate.edu
CREATED:20230502T193158Z
LAST-MODIFIED:20230502T193158Z
LOCATION:Plaster Student Union\, Robert W. PSU 400 (Union Club)
SUMMARY:Retirement Reception for Barbara Jones
DESCRIPTION:Join us in celebrating the retirement of our esteemed colleagu
 e\, Director of Special Events\, Barb Jones.\n\n\nBarb has been an integr
 al part of the Reynolds College of Arts &amp; Letters team and has contribute
 d significantly to the success of our College and the University. This wi
 ll be an opportunity for us to express our appreciation for Barb's dedica
 tion and hard work over the years.\n\n\nWe hope to see you there to wish 
 Barb a happy and fulfilling retirement!
X-ALT-DESC;FMTTYPE=text/html:&lt;html&gt;&lt;head&gt;&lt;title&gt;&lt;/title&gt;&lt;/head&gt;&lt;body&gt;&lt;p&gt;Jo
 in us in celebrating the retirement of our esteemed colleague\, Director 
 of Special Events\, Barb Jones.&lt;/p&gt;\n&lt;p&gt;Barb has been an integral part of
  the Reynolds College of Arts &amp;amp\; Letters team and has contributed sig
 nificantly to the success of our College and the University. This will be
  an opportunity for us to express our appreciation for Barb's dedication 
 and hard work over the years.&lt;/p&gt;\n&lt;p&gt;We hope to see you there to wish Ba
 rb a happy and fulfilling retirement!&lt;/p&gt;&lt;/body&gt;&lt;/html&gt;
DTSTART;TZID=America/Chicago:20230516T140000
DTEND;TZID=America/Chicago:20230516T160000
SEQUENCE:0
URL:119514.jpg
CATEGORIES:Public,Alumni,Faculty,Staff
END:VEVENT
END:VCALENDAR