BEGIN:VCALENDAR
VERSION:2.0
METHOD:PUBLISH
PRODID:-//Missouri State University/Calendar of Events//EN
CALSCALE:GREGORIAN
X-WR-TIMEZONE:America/Chicago
BEGIN:VTIMEZONE
TZID:America/Chicago
BEGIN:DAYLIGHT
TZOFFSETFROM:-0600
TZOFFSETTO:-0500
DTSTART:20070311T020000
RRULE:FREQ=YEARLY;BYMONTH=3;BYDAY=2SU
TZNAME:CDT
END:DAYLIGHT
BEGIN:STANDARD
TZOFFSETFROM:-0500
TZOFFSETTO:-0600
DTSTART:20071104T020000
RRULE:FREQ=YEARLY;BYMONTH=11;BYDAY=1SU
TZNAME:CST
END:STANDARD
END:VTIMEZONE
BEGIN:VEVENT
UID:6d4b2973-0ea5-499c-8f0d-d2b20391d1af.228104@calendar.missouristate.edu
CREATED:20230503T181701Z
LAST-MODIFIED:20230503T181701Z
LOCATION:Plaster Student Union\, Robert W.
SUMMARY:38th Annual Showcase on Teaching and Learning 
DESCRIPTION:The FCTL Advisory Council is proud to announce that :\n\n\nJam
 es M. Lang\, Ph.D. will be this year’s keynote speaker. \n\n\nJames is th
 e Author of 6 books and is a sought-after speaker and workshop leader on 
 teaching and learning in higher education. \n\n\n\n\n\nFor additional inf
 ormation\,  please visit the Showcase on Teaching and Learning web page.  
X-ALT-DESC;FMTTYPE=text/html:&lt;html&gt;&lt;head&gt;&lt;title&gt;&lt;/title&gt;&lt;/head&gt;&lt;body&gt;&lt;p&gt;&lt;s
 pan&gt;The FCTL Advisory Council is proud to announce that :&lt;/span&gt;&lt;/p&gt;\n&lt;p&gt;
 &lt;span&gt;James M. Lang\, Ph.D. will be this year’s keynote speaker.&amp;nbsp\;&lt;/
 span&gt;&lt;/p&gt;\n&lt;p&gt;&lt;span&gt;James is the Author of 6 books and is a sought-after 
 speaker and workshop leader on teaching and learning in higher education.
 &amp;nbsp\;&lt;/span&gt;&lt;/p&gt;\n&lt;p&gt;&lt;/p&gt;\n&lt;p&gt;&lt;span&gt;For additional information\,&amp;nbsp\;
  please visit the&amp;nbsp\;&lt;a href="https://www.missouristate.edu/FCTL/Showc
 aseTeachingLearning.htm"&gt;Showcase on Teaching and Learning&lt;/a&gt; web page.&amp;
 nbsp\;&amp;nbsp\;&lt;/span&gt;&lt;/p&gt;\n&lt;p&gt;&lt;/p&gt;&lt;/body&gt;&lt;/html&gt;
DTSTART;VALUE=DATE:20230816
DTEND;VALUE=DATE:20230817
SEQUENCE:0
URL:https://www.missouristate.edu/fctl/
CATEGORIES:Faculty,Staff
END:VEVENT
END:VCALENDAR