BEGIN:VCALENDAR
VERSION:2.0
METHOD:PUBLISH
PRODID:-//Missouri State University/Calendar of Events//EN
CALSCALE:GREGORIAN
X-WR-TIMEZONE:America/Chicago
BEGIN:VTIMEZONE
TZID:America/Chicago
BEGIN:DAYLIGHT
TZOFFSETFROM:-0600
TZOFFSETTO:-0500
DTSTART:20070311T020000
RRULE:FREQ=YEARLY;BYMONTH=3;BYDAY=2SU
TZNAME:CDT
END:DAYLIGHT
BEGIN:STANDARD
TZOFFSETFROM:-0500
TZOFFSETTO:-0600
DTSTART:20071104T020000
RRULE:FREQ=YEARLY;BYMONTH=11;BYDAY=1SU
TZNAME:CST
END:STANDARD
END:VTIMEZONE
BEGIN:VEVENT
UID:e73f24b5-eb04-491e-a5fe-82bab2332580.229396@calendar.missouristate.edu
CREATED:20230511T164525Z
LAST-MODIFIED:20230511T164525Z
LOCATION:To Be Determined
SUMMARY:SOLD OUT: A VIP Experience with Joe Montana
DESCRIPTION:The Missouri State University Foundation invites you to a VIP 
 experience with Joe Montana on Sept. 26. Montana is the 2023 MSU Public A
 ffairs keynote speaker.
X-ALT-DESC;FMTTYPE=text/html:&lt;html&gt;&lt;head&gt;&lt;title&gt;&lt;/title&gt;&lt;/head&gt;&lt;body&gt;&lt;p&gt;Th
 e Missouri State University Foundation invites you to a VIP experience wi
 th Joe Montana on Sept. 26. Montana is the 2023 MSU Public Affairs keynot
 e speaker.&lt;/p&gt;&lt;/body&gt;&lt;/html&gt;
DTSTART;TZID=America/Chicago:20231102T170000
DTEND;TZID=America/Chicago:20231102T183000
SEQUENCE:0
URL:https://missouristate.imodules.com?sid=1691&amp;gid=2&amp;pgid=3146&amp;cid=5484&amp;e
 cid=5484&amp;ciid=19837&amp;crid=0
CATEGORIES:Public,Alumni,Parents and Family,Visitors
END:VEVENT
END:VCALENDAR