BEGIN:VCALENDAR
VERSION:2.0
METHOD:PUBLISH
PRODID:-//Missouri State University/Calendar of Events//EN
CALSCALE:GREGORIAN
X-WR-TIMEZONE:America/Chicago
BEGIN:VTIMEZONE
TZID:America/Chicago
BEGIN:DAYLIGHT
TZOFFSETFROM:-0600
TZOFFSETTO:-0500
DTSTART:20070311T020000
RRULE:FREQ=YEARLY;BYMONTH=3;BYDAY=2SU
TZNAME:CDT
END:DAYLIGHT
BEGIN:STANDARD
TZOFFSETFROM:-0500
TZOFFSETTO:-0600
DTSTART:20071104T020000
RRULE:FREQ=YEARLY;BYMONTH=11;BYDAY=1SU
TZNAME:CST
END:STANDARD
END:VTIMEZONE
BEGIN:VEVENT
UID:a5ecc2bd-72c3-41c3-a17a-e6368908467e.228134@calendar.missouristate.edu
CREATED:20230516T165752Z
LAST-MODIFIED:20230516T165752Z
LOCATION:
SUMMARY:Staff Appreciation Week: Mosey to Mother's Backyard
DESCRIPTION:Kick off Staff Appreciation Week with a celebration in Mother’
 s backyard. Bring your family and colleagues to Mother’s Brewing Company\
 , 215 S. Grant Ave. for a night of boots\, brats and beers.\n\n\nAt the e
 vent\, kick up your spurs or enjoy a relaxed atmosphere with friends\, fa
 mily and colleagues. We’ll have family-friendly food and the whole space 
 to spread out and enjoy.\n\n\nMother’s Brewing will be offering $2 off al
 l Mother’s beverages (beer\, seltzer\, cider) with a valid MSU faculty/st
 aff BearPass ID.\n\n\nWe’ll also have a selection of complimentary non-al
 coholic beverages and snack items available for MSU faculty\, staff and g
 uests (while supplies last). You can also bring your own dinner picnic if
  you prefer.\n\n\nThe Mother’s backyard area boasts seating\, a covered p
 atio and a children’s playground area. Seating is available on a first co
 me\, first served basis. Lawn chairs and picnic blankets are welcome.\n\n
 \nIn case of inclement weather\, we’ll move inside to Mother’s Barrel Roo
 m.\n\n\nAll throughout Staff Appreciation Week\, enjoy $1 off all Mother’
 s beverages on site with valid MSU ID.
X-ALT-DESC;FMTTYPE=text/html:&lt;html&gt;&lt;head&gt;&lt;title&gt;&lt;/title&gt;&lt;/head&gt;&lt;body&gt;&lt;p&gt;Ki
 ck off Staff Appreciation Week with a celebration in Mother’s backyard. B
 ring your family and colleagues to Mother’s Brewing Company\, 215 S. Gran
 t Ave. for a night of boots\, brats and beers.&lt;/p&gt;\n&lt;p&gt;At the event\, kic
 k up your spurs or enjoy a relaxed atmosphere with friends\, family and c
 olleagues. We’ll have family-friendly food and the whole space to spread 
 out and enjoy.&lt;/p&gt;\n&lt;p&gt;Mother’s Brewing will be offering $2 off all Mothe
 r’s beverages (beer\, seltzer\, cider) with a valid MSU faculty/staff Bea
 rPass ID.&lt;/p&gt;\n&lt;p&gt;We’ll also have a selection of complimentary non-alcoho
 lic beverages and snack items available for MSU faculty\, staff and guest
 s (while supplies last). You can also bring your own dinner picnic if you
  prefer.&lt;/p&gt;\n&lt;p&gt;The Mother’s backyard area boasts seating\, a covered pa
 tio and a children’s playground area.&amp;nbsp\;Seating is available on a fir
 st come\, first served basis. Lawn chairs and picnic blankets are welcome
 .&lt;/p&gt;\n&lt;p&gt;In case of inclement weather\, we’ll move inside to Mother’s Ba
 rrel Room.&lt;/p&gt;\n&lt;p&gt;All throughout Staff Appreciation Week\, enjoy $1 off 
 all Mother’s beverages on site with valid MSU ID.&lt;/p&gt;&lt;/body&gt;&lt;/html&gt;
DTSTART;TZID=America/Chicago:20230612T170000
DTEND;TZID=America/Chicago:20230612T190000
SEQUENCE:1
URL:119539.jpg
CATEGORIES:Faculty,Staff
END:VEVENT
END:VCALENDAR