BEGIN:VCALENDAR
VERSION:2.0
METHOD:PUBLISH
PRODID:-//Missouri State University/Calendar of Events//EN
CALSCALE:GREGORIAN
X-WR-TIMEZONE:America/Chicago
BEGIN:VTIMEZONE
TZID:America/Chicago
BEGIN:DAYLIGHT
TZOFFSETFROM:-0600
TZOFFSETTO:-0500
DTSTART:20070311T020000
RRULE:FREQ=YEARLY;BYMONTH=3;BYDAY=2SU
TZNAME:CDT
END:DAYLIGHT
BEGIN:STANDARD
TZOFFSETFROM:-0500
TZOFFSETTO:-0600
DTSTART:20071104T020000
RRULE:FREQ=YEARLY;BYMONTH=11;BYDAY=1SU
TZNAME:CST
END:STANDARD
END:VTIMEZONE
BEGIN:VEVENT
UID:e103fd63-e471-4685-a4d8-a7cc1c2ff889.228135@calendar.missouristate.edu
CREATED:20230516T165841Z
LAST-MODIFIED:20230516T165841Z
LOCATION:John Goodman Amphitheatre
SUMMARY:Staff Appreciation Week: All Staff Photo
DESCRIPTION:Smile big\, partner: Join the all staff photo.\n\n\nYou’re par
 t of something special at MSU. Show your Bear pride by joining us for a g
 iant staff photograph at the brand new John Goodman Amphitheatre.\n\n\nYo
 u’ll sit in the seating area on the concrete steps – hopefully showcasing
  your best Western wear.If not\, definitely gussy up in your finest BearW
 ear.Join in and be part of something bigger.
X-ALT-DESC;FMTTYPE=text/html:&lt;html&gt;&lt;head&gt;&lt;title&gt;&lt;/title&gt;&lt;/head&gt;&lt;body&gt;&lt;p&gt;Sm
 ile big\, partner: Join the all staff photo.&lt;/p&gt;\n&lt;p&gt;You’re part of somet
 hing special at MSU. Show your Bear pride by joining us for a giant staff
  photograph at the brand new John Goodman Amphitheatre.&lt;/p&gt;\n&lt;p&gt;You’ll si
 t in the seating area on the concrete steps – hopefully showcasing your b
 est Western wear.&lt;br&gt;&lt;br&gt;If not\, definitely gussy up in your finest Bear
 Wear.&lt;br&gt;&lt;br&gt;Join in and be part of something bigger.&lt;/p&gt;&lt;/body&gt;&lt;/html&gt;
DTSTART;TZID=America/Chicago:20230613T163000
DTEND;TZID=America/Chicago:20230613T170000
SEQUENCE:0
URL:119540.jpg
CATEGORIES:Faculty,Staff
END:VEVENT
END:VCALENDAR