BEGIN:VCALENDAR
VERSION:2.0
METHOD:PUBLISH
PRODID:-//Missouri State University/Calendar of Events//EN
CALSCALE:GREGORIAN
X-WR-TIMEZONE:America/Chicago
BEGIN:VTIMEZONE
TZID:America/Chicago
BEGIN:DAYLIGHT
TZOFFSETFROM:-0600
TZOFFSETTO:-0500
DTSTART:20070311T020000
RRULE:FREQ=YEARLY;BYMONTH=3;BYDAY=2SU
TZNAME:CDT
END:DAYLIGHT
BEGIN:STANDARD
TZOFFSETFROM:-0500
TZOFFSETTO:-0600
DTSTART:20071104T020000
RRULE:FREQ=YEARLY;BYMONTH=11;BYDAY=1SU
TZNAME:CST
END:STANDARD
END:VTIMEZONE
BEGIN:VEVENT
UID:80f306fa-acf8-48b7-a276-eb5d4a542665.228136@calendar.missouristate.edu
CREATED:20230601T174329Z
LAST-MODIFIED:20230601T174329Z
LOCATION:Glass Hall\, David D. Atrium and Outside
SUMMARY:Staff Appreciation Week: Join us at the Watering Hole
DESCRIPTION:Join us for a summer saloon party in Glass Hall atrium and on 
 the Glass Hall porch apron as the conclusion to Staff Appreciation Week.\
 n\n\nShowcase your cowboy or cowgirl style and rustle up some grub and we
 t your whistle with root beer floats and other treats\, courtesy of Chart
 wells.\n\n\nGather with other gold-star Bears staff for lawn games and to
 ns of fun at this shingdig – thanks to Staff Senate.\n\n\nThen\, start yo
 ur weekend early with early release at 3 p.m.\, courtesy of President Sma
 rt.
X-ALT-DESC;FMTTYPE=text/html:&lt;html&gt;&lt;head&gt;&lt;title&gt;&lt;/title&gt;&lt;/head&gt;&lt;body&gt;&lt;p&gt;Jo
 in us for a summer saloon party in Glass Hall atrium and on the Glass Hal
 l porch apron as&amp;nbsp\;the conclusion to Staff Appreciation Week.&lt;/p&gt;\n&lt;p
 &gt;Showcase your cowboy or cowgirl style and rustle up some grub and wet yo
 ur whistle with root beer floats and other treats\, courtesy of Chartwell
 s.&lt;/p&gt;\n&lt;p&gt;Gather with other gold-star Bears staff for lawn games and ton
 s of fun at this shingdig – thanks to Staff Senate.&lt;/p&gt;\n&lt;p&gt;Then\, start 
 your weekend early with early release at 3 p.m.\, courtesy of President S
 mart.&lt;/p&gt;&lt;/body&gt;&lt;/html&gt;
DTSTART;TZID=America/Chicago:20230616T130000
DTEND;TZID=America/Chicago:20230616T150000
SEQUENCE:0
URL:119541.jpg
CATEGORIES:Faculty,Staff
END:VEVENT
END:VCALENDAR