BEGIN:VCALENDAR
VERSION:2.0
METHOD:PUBLISH
PRODID:-//Missouri State University/Calendar of Events//EN
CALSCALE:GREGORIAN
X-WR-TIMEZONE:America/Chicago
BEGIN:VTIMEZONE
TZID:America/Chicago
BEGIN:DAYLIGHT
TZOFFSETFROM:-0600
TZOFFSETTO:-0500
DTSTART:20070311T020000
RRULE:FREQ=YEARLY;BYMONTH=3;BYDAY=2SU
TZNAME:CDT
END:DAYLIGHT
BEGIN:STANDARD
TZOFFSETFROM:-0500
TZOFFSETTO:-0600
DTSTART:20071104T020000
RRULE:FREQ=YEARLY;BYMONTH=11;BYDAY=1SU
TZNAME:CST
END:STANDARD
END:VTIMEZONE
BEGIN:VEVENT
UID:15e5f37d-60fb-4852-b129-ba4bc40febcc.228139@calendar.missouristate.edu
CREATED:20230518T174539Z
LAST-MODIFIED:20230518T174539Z
LOCATION:Meyer Alumni Center\, Kenneth E. Turner Hospitality Room
SUMMARY:Faculty and Staff Transformation and Realignment Informational Ses
 sion
DESCRIPTION:Participate in this exclusive event for Missouri State Univers
 ity's retired faculty and staff and hear from Provost John Jasinski regar
 ding the work already done and the upcoming second phase of Missouri Stat
 e University’s Academic Transformation Plan. You will have the opportunit
 y to ask questions and hear about the progress in academic restructuring 
 that has taken place this year.
X-ALT-DESC;FMTTYPE=text/html:&lt;html&gt;&lt;head&gt;&lt;title&gt;&lt;/title&gt;&lt;/head&gt;&lt;body&gt;&lt;p&gt;Pa
 rticipate in this exclusive event for Missouri State University's retired
  faculty and staff and hear from Provost John Jasinski regarding the work
  already done and the upcoming second phase of Missouri State University’
 s Academic Transformation Plan. You will have the opportunity to ask ques
 tions and hear about the progress in academic restructuring that has take
 n place this year.&lt;/p&gt;&lt;/body&gt;&lt;/html&gt;
DTSTART;TZID=America/Chicago:20230609T103000
DTEND;TZID=America/Chicago:20230609T120000
SEQUENCE:1
URL:https://missouristate.imodules.com?sid=1691&amp;gid=2&amp;pgid=3155&amp;cid=5496&amp;e
 cid=5496&amp;ciid=18444&amp;crid=0
CATEGORIES:Public,Alumni,Parents And Family,Visitors
END:VEVENT
END:VCALENDAR