BEGIN:VCALENDAR
VERSION:2.0
METHOD:PUBLISH
PRODID:-//Missouri State University/Calendar of Events//EN
CALSCALE:GREGORIAN
X-WR-TIMEZONE:America/Chicago
BEGIN:VTIMEZONE
TZID:America/Chicago
BEGIN:DAYLIGHT
TZOFFSETFROM:-0600
TZOFFSETTO:-0500
DTSTART:20070311T020000
RRULE:FREQ=YEARLY;BYMONTH=3;BYDAY=2SU
TZNAME:CDT
END:DAYLIGHT
BEGIN:STANDARD
TZOFFSETFROM:-0500
TZOFFSETTO:-0600
DTSTART:20071104T020000
RRULE:FREQ=YEARLY;BYMONTH=11;BYDAY=1SU
TZNAME:CST
END:STANDARD
END:VTIMEZONE
BEGIN:VEVENT
UID:1b1502a6-eebf-4ebf-8d14-c132d1c714ec.228142@calendar.missouristate.edu
CREATED:20230609T172101Z
LAST-MODIFIED:20230609T172101Z
LOCATION:Plaster Student Union\, Robert W. Theater
SUMMARY:Learn to Love the Turbulence with Around the World Pilot Amelia Ro
 se Earhart
DESCRIPTION:Please join the School of Accountancy and Accounting Club for 
 "Learn to Love the Turbulence with Around the World Pilot Amelia Rose Ear
 hart."\n\n\nThe engagement will occur during the Institute of Management 
 Accountants Conference on Sept. 21 from 1-2 p.m. in the PSU Theater.\n\n\
 nIn 2014\, Earhart flew a Pilatus PC12-NG aircraft 28\,000 miles\, crossi
 ng the equator six times\, through 14 countries to complete a circumnavig
 ation of the globe. Her parents\, sharing the Earhart surname\, wanted th
 eir daughter to have a name that would inspire her to live a life of pass
 ion and adventure.\n\n\nAmelia is a commercial pilot\, NBC journalist bas
 ed in Denver\, Colorado\, and speaks internationally about what it means 
 to reach our full potential through bold adventure and a solid flight pla
 n.\n\n\nThis event is free and open to all students\, faculty staff and t
 he public.
X-ALT-DESC;FMTTYPE=text/html:&lt;html&gt;&lt;head&gt;&lt;title&gt;&lt;/title&gt;&lt;/head&gt;&lt;body&gt;&lt;p&gt;Pl
 ease join the&amp;nbsp\;School of Accountancy and Accounting Club for "Learn 
 to Love the Turbulence with Around the World Pilot Amelia Rose Earhart."&lt;
 /p&gt;\n&lt;p&gt;The engagement will occur during the Institute of Management Acco
 untants Conference on &lt;b&gt;Sept. 21 from 1-2 p.m. in the PSU Theater.&lt;/b&gt;&lt;/
 p&gt;\n&lt;p&gt;In 2014\,&amp;nbsp\;Earhart&amp;nbsp\;flew a Pilatus PC12-NG aircraft 28\,
 000 miles\, crossing the equator six times\, through 14 countries to comp
 lete a circumnavigation of the globe. Her parents\, sharing the Earhart s
 urname\, wanted their daughter to have a name that would inspire her to l
 ive a life of passion and adventure.&lt;/p&gt;\n&lt;p&gt;Amelia is a commercial pilot
 \, NBC journalist based in Denver\, Colorado\, and speaks internationally
  about what it means to reach our full potential through bold adventure a
 nd a solid flight plan.&lt;/p&gt;\n&lt;p&gt;This event is free and open to all studen
 ts\, faculty staff and the public.&lt;/p&gt;&lt;/body&gt;&lt;/html&gt;
DTSTART;TZID=America/Chicago:20230921T130000
DTEND;TZID=America/Chicago:20230921T140000
SEQUENCE:0
URL:119546.jpg
CATEGORIES:Public,Alumni,Current Students,Faculty,Future Students,Staff
END:VEVENT
END:VCALENDAR