BEGIN:VCALENDAR
VERSION:2.0
METHOD:PUBLISH
PRODID:-//Missouri State University/Calendar of Events//EN
CALSCALE:GREGORIAN
X-WR-TIMEZONE:America/Chicago
BEGIN:VTIMEZONE
TZID:America/Chicago
BEGIN:DAYLIGHT
TZOFFSETFROM:-0600
TZOFFSETTO:-0500
DTSTART:20070311T020000
RRULE:FREQ=YEARLY;BYMONTH=3;BYDAY=2SU
TZNAME:CDT
END:DAYLIGHT
BEGIN:STANDARD
TZOFFSETFROM:-0500
TZOFFSETTO:-0600
DTSTART:20071104T020000
RRULE:FREQ=YEARLY;BYMONTH=11;BYDAY=1SU
TZNAME:CST
END:STANDARD
END:VTIMEZONE
BEGIN:VEVENT
UID:7b47b6fa-11c8-44cc-b370-16c137d5d3d5.228144@calendar.missouristate.edu
CREATED:20230719T154346Z
LAST-MODIFIED:20230719T154346Z
LOCATION:Plaster Student Union\, Robert W. 317
SUMMARY:Faculty-Directed Education Abroad Program Planning Workshop
DESCRIPTION:Please join the Education Abroad team for a workshop on develo
 ping one- to eight-week programs. Topics include the proposal process\, l
 ogistics and budgeting\, health/safety\, marketing your program and trave
 ling with students. \n\n\nRefreshments will be provided. Please RSVP here
  by Sept. 13 or by emailing EducationAbroad@MissouriState.edu.
X-ALT-DESC;FMTTYPE=text/html:&lt;html&gt;&lt;head&gt;&lt;title&gt;&lt;/title&gt;&lt;/head&gt;&lt;body&gt;&lt;p&gt;&lt;s
 pan&gt;Please join the Education Abroad team for a workshop on developing on
 e- to eight-week programs. Topics include the proposal process\, logistic
 s and budgeting\, health/safety\, marketing your program and traveling wi
 th students.&amp;nbsp\;&lt;/span&gt;&lt;/p&gt;\n&lt;p&gt;&lt;span&gt;Refreshments will be provided. &lt;
 a href="https://missouristate.co1.qualtrics.com/jfe/form/SV_afoVaFtQNlPWO
 6a"&gt;Please RSVP here by Sept. 13&lt;/a&gt;&amp;nbsp\;or by emailing EducationAbroad
 @MissouriState.edu.&lt;/span&gt;&lt;/p&gt;&lt;/body&gt;&lt;/html&gt;
DTSTART;TZID=America/Chicago:20230919T140000
DTEND;TZID=America/Chicago:20230919T150000
SEQUENCE:0
URL:https://international.missouristate.edu/EducationAbroad/
CATEGORIES:Faculty,Staff
END:VEVENT
END:VCALENDAR