BEGIN:VCALENDAR
VERSION:2.0
METHOD:PUBLISH
PRODID:-//Missouri State University/Calendar of Events//EN
CALSCALE:GREGORIAN
X-WR-TIMEZONE:America/Chicago
BEGIN:VTIMEZONE
TZID:America/Chicago
BEGIN:DAYLIGHT
TZOFFSETFROM:-0600
TZOFFSETTO:-0500
DTSTART:20070311T020000
RRULE:FREQ=YEARLY;BYMONTH=3;BYDAY=2SU
TZNAME:CDT
END:DAYLIGHT
BEGIN:STANDARD
TZOFFSETFROM:-0500
TZOFFSETTO:-0600
DTSTART:20071104T020000
RRULE:FREQ=YEARLY;BYMONTH=11;BYDAY=1SU
TZNAME:CST
END:STANDARD
END:VTIMEZONE
BEGIN:VEVENT
UID:94d09e16-2933-406a-bca9-2f3a5847cdbc.228159@calendar.missouristate.edu
CREATED:20230525T051505Z
LAST-MODIFIED:20230525T051505Z
LOCATION:Springfield\, Betty &amp; Bobby Allison South Stadium
SUMMARY:Missouri State University Women's Soccer vs Illinois State - Sport
 ing KC/Springfield Night
DESCRIPTION:Missouri State University Women's Soccer plays Illinois State 
 - Sporting KC/Springfield Night
X-ALT-DESC;FMTTYPE=text/html:&lt;html&gt;&lt;head&gt;&lt;title&gt;&lt;/title&gt;&lt;/head&gt;&lt;body&gt;Misso
 uri State University Women's Soccer plays Illinois State - Sporting KC/Sp
 ringfield Night&lt;/body&gt;&lt;/html&gt;
DTSTART;TZID=America/Chicago:20230921T190000
DTEND;TZID=America/Chicago:20230921T210000
SEQUENCE:0
URL:http://missouristatebears.com/index.aspx?path=wsoc
CATEGORIES:Current Students,Future Students,Parents and Family,Alumni,
 Faculty,Staff,Community,Visitors,Athletics
END:VEVENT
END:VCALENDAR