BEGIN:VCALENDAR
VERSION:2.0
METHOD:PUBLISH
PRODID:-//Missouri State University/Calendar of Events//EN
CALSCALE:GREGORIAN
X-WR-TIMEZONE:America/Chicago
BEGIN:VTIMEZONE
TZID:America/Chicago
BEGIN:DAYLIGHT
TZOFFSETFROM:-0600
TZOFFSETTO:-0500
DTSTART:20070311T020000
RRULE:FREQ=YEARLY;BYMONTH=3;BYDAY=2SU
TZNAME:CDT
END:DAYLIGHT
BEGIN:STANDARD
TZOFFSETFROM:-0500
TZOFFSETTO:-0600
DTSTART:20071104T020000
RRULE:FREQ=YEARLY;BYMONTH=11;BYDAY=1SU
TZNAME:CST
END:STANDARD
END:VTIMEZONE
BEGIN:VEVENT
UID:00000000-0000-0000-0000-000000000000.228170@calendar.missouristate.edu
CREATED:20230526T174511Z
LAST-MODIFIED:20230526T174511Z
LOCATION:To Be Determined
SUMMARY:Black Alumni Council Bi-Annual Meeting 2023
DESCRIPTION:Join the Black Alumni Council's Bi-Annual General Meeting\, on
  Tues.\, June 6 at 3 p.m. You will have the opportunity to participate an
 d let your voice be heard.
X-ALT-DESC;FMTTYPE=text/html:&lt;html&gt;&lt;head&gt;&lt;title&gt;&lt;/title&gt;&lt;/head&gt;&lt;body&gt;&lt;p&gt;Jo
 in the Black Alumni Council's Bi-Annual General Meeting\, on Tues.\, June
  6 at 3 p.m. You will have the opportunity to participate and let your vo
 ice be heard. &lt;/p&gt;&lt;/body&gt;&lt;/html&gt;
DTSTART;TZID=America/Chicago:20230606T150000
DTEND;TZID=America/Chicago:20230606T163000
SEQUENCE:0
URL:https://missouristate.imodules.com?sid=1691&amp;gid=2&amp;pgid=3158&amp;cid=5500&amp;e
 cid=5500&amp;ciid=18597&amp;crid=0
CATEGORIES:Public,Alumni,Parents and Family,Visitors
END:VEVENT
END:VCALENDAR