BEGIN:VCALENDAR
VERSION:2.0
METHOD:PUBLISH
PRODID:-//Missouri State University/Calendar of Events//EN
CALSCALE:GREGORIAN
X-WR-TIMEZONE:America/Chicago
BEGIN:VTIMEZONE
TZID:America/Chicago
BEGIN:DAYLIGHT
TZOFFSETFROM:-0600
TZOFFSETTO:-0500
DTSTART:20070311T020000
RRULE:FREQ=YEARLY;BYMONTH=3;BYDAY=2SU
TZNAME:CDT
END:DAYLIGHT
BEGIN:STANDARD
TZOFFSETFROM:-0500
TZOFFSETTO:-0600
DTSTART:20071104T020000
RRULE:FREQ=YEARLY;BYMONTH=11;BYDAY=1SU
TZNAME:CST
END:STANDARD
END:VTIMEZONE
BEGIN:VEVENT
UID:00000000-0000-0000-0000-000000000000.228172@calendar.missouristate.edu
CREATED:20230530T224531Z
LAST-MODIFIED:20230530T224531Z
LOCATION:To Be Determined
SUMMARY:Springfield Alumni Chapter Happy Hour
DESCRIPTION:Alumni and friends in the greater Springfield area are invited
  to the Wire Road Brewing Company on June 21. Come meet the leaders of th
 e Springfield Alumni Chapter and network with fellow Bears.\n\n\n 
X-ALT-DESC;FMTTYPE=text/html:&lt;html&gt;&lt;head&gt;&lt;title&gt;&lt;/title&gt;&lt;/head&gt;&lt;body&gt;&lt;p&gt;Al
 umni and friends in the greater Springfield area are invited to the Wire 
 Road Brewing Company on June 21. Come meet the leaders of the Springfield
  Alumni Chapter and network with fellow Bears.&lt;/p&gt;\n&lt;p&gt;&amp;nbsp\;&lt;/p&gt;&lt;/body&gt;
 &lt;/html&gt;
DTSTART;TZID=America/Chicago:20230621T163000
DTEND;TZID=America/Chicago:20230621T183000
SEQUENCE:0
URL:https://missouristate.imodules.com?sid=1691&amp;gid=2&amp;pgid=3176&amp;cid=5524&amp;e
 cid=5524&amp;ciid=18726&amp;crid=0
CATEGORIES:Public,Alumni,Parents and Family,Visitors
END:VEVENT
END:VCALENDAR