BEGIN:VCALENDAR
VERSION:2.0
METHOD:PUBLISH
PRODID:-//Missouri State University/Calendar of Events//EN
CALSCALE:GREGORIAN
X-WR-TIMEZONE:America/Chicago
BEGIN:VTIMEZONE
TZID:America/Chicago
BEGIN:DAYLIGHT
TZOFFSETFROM:-0600
TZOFFSETTO:-0500
DTSTART:20070311T020000
RRULE:FREQ=YEARLY;BYMONTH=3;BYDAY=2SU
TZNAME:CDT
END:DAYLIGHT
BEGIN:STANDARD
TZOFFSETFROM:-0500
TZOFFSETTO:-0600
DTSTART:20071104T020000
RRULE:FREQ=YEARLY;BYMONTH=11;BYDAY=1SU
TZNAME:CST
END:STANDARD
END:VTIMEZONE
BEGIN:VEVENT
UID:f26f7d68-395a-431e-a024-1579a11d2fcc.228174@calendar.missouristate.edu
CREATED:20230531T164723Z
LAST-MODIFIED:20230531T164723Z
LOCATION:Plaster Student Union\, Robert W. PSU North Mall &amp; PSU
SUMMARY:Bear Bash
DESCRIPTION:Free food and snacks! There will be a hypnotist\, DIY crafts\,
  trivia\, bingo\, and more! 
X-ALT-DESC;FMTTYPE=text/html:&lt;html&gt;&lt;head&gt;&lt;title&gt;&lt;/title&gt;&lt;/head&gt;&lt;body&gt;&lt;p&gt;Fr
 ee food and snacks! There will be a hypnotist\, DIY crafts\, trivia\, bin
 go\, and more!&amp;nbsp\;&lt;/p&gt;&lt;/body&gt;&lt;/html&gt;
DTSTART;TZID=America/Chicago:20230819T200000
DTEND;TZID=America/Chicago:20230819T230000
SEQUENCE:0
URL:119580.jpg
CATEGORIES:Current Students
END:VEVENT
END:VCALENDAR