BEGIN:VCALENDAR
VERSION:2.0
METHOD:PUBLISH
PRODID:-//Missouri State University/Calendar of Events//EN
CALSCALE:GREGORIAN
X-WR-TIMEZONE:America/Chicago
BEGIN:VTIMEZONE
TZID:America/Chicago
BEGIN:DAYLIGHT
TZOFFSETFROM:-0600
TZOFFSETTO:-0500
DTSTART:20070311T020000
RRULE:FREQ=YEARLY;BYMONTH=3;BYDAY=2SU
TZNAME:CDT
END:DAYLIGHT
BEGIN:STANDARD
TZOFFSETFROM:-0500
TZOFFSETTO:-0600
DTSTART:20071104T020000
RRULE:FREQ=YEARLY;BYMONTH=11;BYDAY=1SU
TZNAME:CST
END:STANDARD
END:VTIMEZONE
BEGIN:VEVENT
UID:fa977435-7d8a-4085-8ceb-82c25aa8eb1e.228175@calendar.missouristate.edu
CREATED:20230531T164635Z
LAST-MODIFIED:20230531T164635Z
LOCATION:Plaster Student Union\, Robert W. PSU North Mall (ICOR Theater)
SUMMARY:Fall Concert
DESCRIPTION:SAC will host our FALL CONCERT with an opener and headliner at
  the PSU North Mall (I.C.O.R. in the PSU Theatre).\n\n\n Check out our so
 cial media pages at @mostatesac for more information as the date draws ne
 ar!
X-ALT-DESC;FMTTYPE=text/html:&lt;html&gt;&lt;head&gt;&lt;title&gt;&lt;/title&gt;&lt;/head&gt;&lt;body&gt;&lt;p&gt;&lt;s
 pan&gt;SAC will host our FALL CONCERT with an opener and headliner at the PS
 U North Mall (I.C.O.R. in the PSU Theatre).&lt;/span&gt;&lt;/p&gt;\n&lt;p&gt;&lt;span&gt; Check o
 ut our social media pages at @mostatesac for more information as the date
  draws near!&lt;/span&gt;&lt;/p&gt;&lt;/body&gt;&lt;/html&gt;
DTSTART;TZID=America/Chicago:20230914T190000
DTEND;TZID=America/Chicago:20230914T210000
SEQUENCE:0
URL:
CATEGORIES:Current Students
END:VEVENT
END:VCALENDAR