BEGIN:VCALENDAR
VERSION:2.0
METHOD:PUBLISH
PRODID:-//Missouri State University/Calendar of Events//EN
CALSCALE:GREGORIAN
X-WR-TIMEZONE:America/Chicago
BEGIN:VTIMEZONE
TZID:America/Chicago
BEGIN:DAYLIGHT
TZOFFSETFROM:-0600
TZOFFSETTO:-0500
DTSTART:20070311T020000
RRULE:FREQ=YEARLY;BYMONTH=3;BYDAY=2SU
TZNAME:CDT
END:DAYLIGHT
BEGIN:STANDARD
TZOFFSETFROM:-0500
TZOFFSETTO:-0600
DTSTART:20071104T020000
RRULE:FREQ=YEARLY;BYMONTH=11;BYDAY=1SU
TZNAME:CST
END:STANDARD
END:VTIMEZONE
BEGIN:VEVENT
UID:0d6e1c25-713e-4a6b-ae39-16acfe71b322.228176@calendar.missouristate.edu
CREATED:20230531T164806Z
LAST-MODIFIED:20230531T164806Z
LOCATION:Missouri State North Mall
SUMMARY:Movie on the Mall: Shrek 2
DESCRIPTION:We will be screening Shrek 2 on the North Mall during move-in 
 week. Come enjoy the evening outdoors and enjoy the movie on the lawn. Th
 ere will be free popcorn for students that attend!
X-ALT-DESC;FMTTYPE=text/html:&lt;html&gt;&lt;head&gt;&lt;title&gt;&lt;/title&gt;&lt;/head&gt;&lt;body&gt;&lt;p&gt;We
  will be screening Shrek 2 on the North Mall during move-in week. Come en
 joy the evening outdoors and enjoy the movie on the lawn. There will be f
 ree popcorn for students that attend!&lt;/p&gt;&lt;/body&gt;&lt;/html&gt;
DTSTART;TZID=America/Chicago:20230817T000000
DTEND;TZID=America/Chicago:20230817T000000
SEQUENCE:0
URL:119583.jpg
CATEGORIES:Current Students
END:VEVENT
END:VCALENDAR