BEGIN:VCALENDAR
VERSION:2.0
METHOD:PUBLISH
PRODID:-//Missouri State University/Calendar of Events//EN
CALSCALE:GREGORIAN
X-WR-TIMEZONE:America/Chicago
BEGIN:VTIMEZONE
TZID:America/Chicago
BEGIN:DAYLIGHT
TZOFFSETFROM:-0600
TZOFFSETTO:-0500
DTSTART:20070311T020000
RRULE:FREQ=YEARLY;BYMONTH=3;BYDAY=2SU
TZNAME:CDT
END:DAYLIGHT
BEGIN:STANDARD
TZOFFSETFROM:-0500
TZOFFSETTO:-0600
DTSTART:20071104T020000
RRULE:FREQ=YEARLY;BYMONTH=11;BYDAY=1SU
TZNAME:CST
END:STANDARD
END:VTIMEZONE
BEGIN:VEVENT
UID:59ef3f57-1d4c-490a-94c7-3afb3725c36b.228178@calendar.missouristate.edu
CREATED:20230531T190845Z
LAST-MODIFIED:20230531T190845Z
LOCATION:Plaster Student Union\, Robert W. Atrium
SUMMARY:Education Abroad Fair
DESCRIPTION:Join us for the Education Abroad Fair to learn more about stud
 y abroad options available through Missouri State University. Program pro
 vider representatives and faculty directors of short-term programs will b
 e available to answer specific questions about their programs. Eligible s
 tudents can study abroad for one week up to one year\, earn academic cred
 it\, and use their financial aid and special study abroad scholarships. P
 ick up some door prizes while you're at our event!
X-ALT-DESC;FMTTYPE=text/html:&lt;html&gt;&lt;head&gt;&lt;title&gt;&lt;/title&gt;&lt;/head&gt;&lt;body&gt;&lt;p&gt;&lt;s
 pan&gt;Join us for the&amp;nbsp\;&lt;/span&gt;&lt;b&gt;Education Abroad Fair&lt;/b&gt;&lt;span&gt;&amp;nbsp\
 ;to learn more about study abroad options available through Missouri Stat
 e University. Program provider representatives and faculty directors of s
 hort-term programs will be available to answer specific questions about t
 heir programs. Eligible students can study abroad for one week up to one 
 year\, earn academic credit\, and use their financial aid and special stu
 dy abroad scholarships. Pick up some door prizes while you're at our even
 t!&lt;/span&gt;&lt;/p&gt;&lt;/body&gt;&lt;/html&gt;
DTSTART;TZID=America/Chicago:20230914T110000
DTEND;TZID=America/Chicago:20230914T140000
SEQUENCE:0
URL:https://international.missouristate.edu/EducationAbroad/
CATEGORIES:Current Students,Faculty,Future Students,Staff
END:VEVENT
END:VCALENDAR