BEGIN:VCALENDAR
VERSION:2.0
METHOD:PUBLISH
PRODID:-//Missouri State University/Calendar of Events//EN
CALSCALE:GREGORIAN
X-WR-TIMEZONE:America/Chicago
BEGIN:VTIMEZONE
TZID:America/Chicago
BEGIN:DAYLIGHT
TZOFFSETFROM:-0600
TZOFFSETTO:-0500
DTSTART:20070311T020000
RRULE:FREQ=YEARLY;BYMONTH=3;BYDAY=2SU
TZNAME:CDT
END:DAYLIGHT
BEGIN:STANDARD
TZOFFSETFROM:-0500
TZOFFSETTO:-0600
DTSTART:20071104T020000
RRULE:FREQ=YEARLY;BYMONTH=11;BYDAY=1SU
TZNAME:CST
END:STANDARD
END:VTIMEZONE
BEGIN:VEVENT
UID:1d4890b7-3e14-4bbf-931c-9f9624c96d2d.228179@calendar.missouristate.edu
CREATED:20230531T192937Z
LAST-MODIFIED:20230531T192937Z
LOCATION:Plaster Student Union\, Robert W. Atrium
SUMMARY:Be A Bear!
DESCRIPTION:Come tell us your favorite MSU tradition. \n\n\nBookstore gift
  card raffle giveaway! A chance to meet Boomer and free food!
X-ALT-DESC;FMTTYPE=text/html:&lt;html&gt;&lt;head&gt;&lt;title&gt;&lt;/title&gt;&lt;/head&gt;&lt;body&gt;&lt;p&gt;&lt;s
 pan&gt;Come tell us your favorite MSU tradition. &lt;/span&gt;&lt;/p&gt;\n&lt;p&gt;&lt;span&gt;Books
 tore gift card raffle giveaway! A chance to meet Boomer and free food!&lt;/s
 pan&gt;&lt;/p&gt;&lt;/body&gt;&lt;/html&gt;
DTSTART;TZID=America/Chicago:20231107T120000
DTEND;TZID=America/Chicago:20231107T140000
SEQUENCE:0
URL:
CATEGORIES:Current Students
END:VEVENT
END:VCALENDAR