BEGIN:VCALENDAR
VERSION:2.0
METHOD:PUBLISH
PRODID:-//Missouri State University/Calendar of Events//EN
CALSCALE:GREGORIAN
X-WR-TIMEZONE:America/Chicago
BEGIN:VTIMEZONE
TZID:America/Chicago
BEGIN:DAYLIGHT
TZOFFSETFROM:-0600
TZOFFSETTO:-0500
DTSTART:20070311T020000
RRULE:FREQ=YEARLY;BYMONTH=3;BYDAY=2SU
TZNAME:CDT
END:DAYLIGHT
BEGIN:STANDARD
TZOFFSETFROM:-0500
TZOFFSETTO:-0600
DTSTART:20071104T020000
RRULE:FREQ=YEARLY;BYMONTH=11;BYDAY=1SU
TZNAME:CST
END:STANDARD
END:VTIMEZONE
BEGIN:VEVENT
UID:5bb1f736-3b20-427d-9759-6f8f3e7cc012.228180@calendar.missouristate.edu
CREATED:20230531T194212Z
LAST-MODIFIED:20230531T194212Z
LOCATION:Plaster Student Union\, Robert W. Theater
SUMMARY:Family Feud 
DESCRIPTION:FAMILY FEUD! Gather a team of 4 and test your knowledge on tri
 via questions just like the show. There will be PRIZES for the teams that
  prevail on the game show. 
X-ALT-DESC;FMTTYPE=text/html:&lt;html&gt;&lt;head&gt;&lt;title&gt;&lt;/title&gt;&lt;/head&gt;&lt;body&gt;&lt;p&gt;FA
 MILY FEUD! Gather a team of 4 and test your knowledge on trivia questions
  just like the show. There will be PRIZES for the teams that prevail on t
 he game show.&amp;nbsp\;&lt;/p&gt;&lt;/body&gt;&lt;/html&gt;
DTSTART;TZID=America/Chicago:20231130T190000
DTEND;TZID=America/Chicago:20231130T220000
SEQUENCE:0
URL:
CATEGORIES:Current Students
END:VEVENT
END:VCALENDAR