BEGIN:VCALENDAR
VERSION:2.0
METHOD:PUBLISH
PRODID:-//Missouri State University/Calendar of Events//EN
CALSCALE:GREGORIAN
X-WR-TIMEZONE:America/Chicago
BEGIN:VTIMEZONE
TZID:America/Chicago
BEGIN:DAYLIGHT
TZOFFSETFROM:-0600
TZOFFSETTO:-0500
DTSTART:20070311T020000
RRULE:FREQ=YEARLY;BYMONTH=3;BYDAY=2SU
TZNAME:CDT
END:DAYLIGHT
BEGIN:STANDARD
TZOFFSETFROM:-0500
TZOFFSETTO:-0600
DTSTART:20071104T020000
RRULE:FREQ=YEARLY;BYMONTH=11;BYDAY=1SU
TZNAME:CST
END:STANDARD
END:VTIMEZONE
BEGIN:VEVENT
UID:0312733a-b7b0-4443-845b-9ab3626d3878.228183@calendar.missouristate.edu
CREATED:20230605T175502Z
LAST-MODIFIED:20230605T175502Z
LOCATION:Meyer Library\, Duane G. Lobby
SUMMARY:Book Swap
DESCRIPTION:Come donate\, take\, or both at SAC's Book Swap. \n\n\nWhere y
 ou can get rid of any books you don't need anymore or look for something 
 to start reading next?
X-ALT-DESC;FMTTYPE=text/html:&lt;html&gt;&lt;head&gt;&lt;title&gt;&lt;/title&gt;&lt;/head&gt;&lt;body&gt;&lt;p&gt;&lt;s
 pan&gt;Come donate\, take\, or both at SAC's Book Swap. &lt;/span&gt;&lt;/p&gt;\n&lt;p&gt;&lt;spa
 n&gt;Where you can get rid of any books you don't need anymore or look for s
 omething to start reading next?&lt;/span&gt;&lt;/p&gt;&lt;/body&gt;&lt;/html&gt;
DTSTART;TZID=America/Chicago:20231128T230000
DTEND;TZID=America/Chicago:20231128T140000
SEQUENCE:0
URL:
CATEGORIES:Current Students
END:VEVENT
END:VCALENDAR