BEGIN:VCALENDAR
VERSION:2.0
METHOD:PUBLISH
PRODID:-//Missouri State University/Calendar of Events//EN
CALSCALE:GREGORIAN
X-WR-TIMEZONE:America/Chicago
BEGIN:VTIMEZONE
TZID:America/Chicago
BEGIN:DAYLIGHT
TZOFFSETFROM:-0600
TZOFFSETTO:-0500
DTSTART:20070311T020000
RRULE:FREQ=YEARLY;BYMONTH=3;BYDAY=2SU
TZNAME:CDT
END:DAYLIGHT
BEGIN:STANDARD
TZOFFSETFROM:-0500
TZOFFSETTO:-0600
DTSTART:20071104T020000
RRULE:FREQ=YEARLY;BYMONTH=11;BYDAY=1SU
TZNAME:CST
END:STANDARD
END:VTIMEZONE
BEGIN:VEVENT
UID:732ac255-aca9-4442-a92e-d7b826ebae8b.228185@calendar.missouristate.edu
CREATED:20230605T181417Z
LAST-MODIFIED:20230605T181417Z
LOCATION:Plaster Student Union\, Robert W. Grand Ballroom
SUMMARY:Haylor Party
DESCRIPTION:Taylor Swift\, Harry Styles\, and One Direction music all in o
 ne place for a stress relief dance party.\n\n\nDress up as Taylor or Harr
 y for the party!
X-ALT-DESC;FMTTYPE=text/html:&lt;html&gt;&lt;head&gt;&lt;title&gt;&lt;/title&gt;&lt;/head&gt;&lt;body&gt;&lt;p&gt;Ta
 ylor Swift\, Harry Styles\, and One Direction music all in one place for 
 a stress relief dance party.&lt;/p&gt;\n&lt;p&gt;Dress up as Taylor or Harry for the 
 party!&lt;/p&gt;&lt;/body&gt;&lt;/html&gt;
DTSTART;TZID=America/Chicago:20231206T190000
DTEND;TZID=America/Chicago:20231206T210000
SEQUENCE:0
URL:
CATEGORIES:Current Students
END:VEVENT
END:VCALENDAR