BEGIN:VCALENDAR
VERSION:2.0
METHOD:PUBLISH
PRODID:-//Missouri State University/Calendar of Events//EN
CALSCALE:GREGORIAN
X-WR-TIMEZONE:America/Chicago
BEGIN:VTIMEZONE
TZID:America/Chicago
BEGIN:DAYLIGHT
TZOFFSETFROM:-0600
TZOFFSETTO:-0500
DTSTART:20070311T020000
RRULE:FREQ=YEARLY;BYMONTH=3;BYDAY=2SU
TZNAME:CDT
END:DAYLIGHT
BEGIN:STANDARD
TZOFFSETFROM:-0500
TZOFFSETTO:-0600
DTSTART:20071104T020000
RRULE:FREQ=YEARLY;BYMONTH=11;BYDAY=1SU
TZNAME:CST
END:STANDARD
END:VTIMEZONE
BEGIN:VEVENT
UID:8cc66800-835d-458a-96f9-119c62e46f74.228187@calendar.missouristate.edu
CREATED:20230810T162532Z
LAST-MODIFIED:20230810T162532Z
LOCATION:Missouri State North Mall
SUMMARY:Welcome Weekend: Belong-B-Q 2023
DESCRIPTION:The Belong-B-Q is an all-inclusive event that takes place ever
 y fall during Welcome Weekend.\n\n\nJoin us for Belong-B-Q 2023. Contact 
 the Office Of Multicultural Programs to sign up for a table or to be a pa
 rt of the entertainment at MulticulturalPrograms@MissouriState.edu or 417
 -836-4483.
X-ALT-DESC;FMTTYPE=text/html:&lt;html&gt;&lt;head&gt;&lt;title&gt;&lt;/title&gt;&lt;/head&gt;&lt;body&gt;&lt;p&gt;&lt;s
 pan&gt;The Belong-B-Q is an all-inclusive event that takes place every fall 
 during Welcome Weekend.&lt;/span&gt;&lt;/p&gt;\n&lt;p&gt;&lt;span&gt;Join us for Belong-B-Q 2023.
  Contact the Office Of Multicultural Programs to sign up for a table or t
 o be a part of the entertainment at MulticulturalPrograms@MissouriState.e
 du &lt;/span&gt;or &lt;span&gt;417-836-4483.&lt;/span&gt;&lt;span&gt;&lt;/span&gt;&lt;/p&gt;&lt;/body&gt;&lt;/html&gt;
DTSTART;TZID=America/Chicago:20230820T170000
DTEND;TZID=America/Chicago:20230820T190000
SEQUENCE:0
URL:https://www.missouristate.edu/MulticulturalPrograms/BelongBQ.htm
CATEGORIES:Alumni,Current Students,Faculty,Future Students,Staff
END:VEVENT
END:VCALENDAR