BEGIN:VCALENDAR
VERSION:2.0
METHOD:PUBLISH
PRODID:-//Missouri State University/Calendar of Events//EN
CALSCALE:GREGORIAN
X-WR-TIMEZONE:America/Chicago
BEGIN:VTIMEZONE
TZID:America/Chicago
BEGIN:DAYLIGHT
TZOFFSETFROM:-0600
TZOFFSETTO:-0500
DTSTART:20070311T020000
RRULE:FREQ=YEARLY;BYMONTH=3;BYDAY=2SU
TZNAME:CDT
END:DAYLIGHT
BEGIN:STANDARD
TZOFFSETFROM:-0500
TZOFFSETTO:-0600
DTSTART:20071104T020000
RRULE:FREQ=YEARLY;BYMONTH=11;BYDAY=1SU
TZNAME:CST
END:STANDARD
END:VTIMEZONE
BEGIN:VEVENT
UID:2a055e1c-b6f2-4159-98f7-c1d062892bff.228188@calendar.missouristate.edu
CREATED:20230610T215142Z
LAST-MODIFIED:20230610T215142Z
LOCATION:Plaster Student Union\, Robert W. Ballroom
SUMMARY:Multicultural Networking &amp; Welcome Event
DESCRIPTION:This event brings together diverse faculty\, staff\, students 
 and community partners from across the Missouri State University and grea
 ter Springfield communities to network\, build community and ensure a sus
 tained commitment to student success. \n\n\nMulticultural Programs partne
 rs with programs within the Multicultural Services Unit (TRIO Programs\, 
 Access and Success Programs and Bears L.E.A.D.) to host the Multicultural
  Networking Reception\, which creates an opportunity for students of diff
 erence to connect with other diverse staff\, faculty and administrators.
X-ALT-DESC;FMTTYPE=text/html:&lt;html&gt;&lt;head&gt;&lt;title&gt;&lt;/title&gt;&lt;/head&gt;&lt;body&gt;&lt;p&gt;&lt;s
 pan&gt;This event brings together diverse faculty\, staff\, students and com
 munity partners from across the Missouri State University and greater Spr
 ingfield communities to network\, build community and ensure a sustained 
 commitment to student success. &lt;/span&gt;&lt;/p&gt;\n&lt;p&gt;&lt;span&gt;Multicultural Progra
 ms partners with programs within the Multicultural Services Unit (TRIO Pr
 ograms\, Access and Success Programs and Bears L.E.A.D.) to host the Mult
 icultural Networking Reception\, which creates an opportunity for student
 s of difference to connect with other diverse staff\, faculty and adminis
 trators.&lt;/span&gt;&lt;/p&gt;&lt;/body&gt;&lt;/html&gt;
DTSTART;TZID=America/Chicago:20230823T180000
DTEND;TZID=America/Chicago:20230823T200000
SEQUENCE:0
URL:https://multicultural.missouristate.edu/multicultural-networking-recep
 tion.htm
CATEGORIES:Public
END:VEVENT
END:VCALENDAR