BEGIN:VCALENDAR
VERSION:2.0
METHOD:PUBLISH
PRODID:-//Missouri State University/Calendar of Events//EN
CALSCALE:GREGORIAN
X-WR-TIMEZONE:America/Chicago
BEGIN:VTIMEZONE
TZID:America/Chicago
BEGIN:DAYLIGHT
TZOFFSETFROM:-0600
TZOFFSETTO:-0500
DTSTART:20070311T020000
RRULE:FREQ=YEARLY;BYMONTH=3;BYDAY=2SU
TZNAME:CDT
END:DAYLIGHT
BEGIN:STANDARD
TZOFFSETFROM:-0500
TZOFFSETTO:-0600
DTSTART:20071104T020000
RRULE:FREQ=YEARLY;BYMONTH=11;BYDAY=1SU
TZNAME:CST
END:STANDARD
END:VTIMEZONE
BEGIN:VEVENT
UID:ab3e62e8-a73d-4dbd-9d82-a0c28b2cf706.228197@calendar.missouristate.edu
CREATED:20230605T180126Z
LAST-MODIFIED:20230605T180126Z
LOCATION:Plaster Student Union\, Robert W. 2nd Floor
SUMMARY:Discover Public Affairs
DESCRIPTION:Want to know what Public Affairs really means to Missouri Stat
 e University? Come take a trip around the three pillars and discover what
  our mission stands for. There will be a drawing for the chance to win a 
 prize!
X-ALT-DESC;FMTTYPE=text/html:&lt;html&gt;&lt;head&gt;&lt;title&gt;&lt;/title&gt;&lt;/head&gt;&lt;body&gt;&lt;p&gt;Wa
 nt to know what Public Affairs really means to Missouri State University?
  Come take a trip around the three pillars and discover what our mission 
 stands for. There will be a drawing for the chance to win a prize!&lt;/p&gt;&lt;/b
 ody&gt;&lt;/html&gt;
DTSTART;TZID=America/Chicago:20230824T120000
DTEND;TZID=America/Chicago:20230824T140000
SEQUENCE:0
URL:
CATEGORIES:Current Students
END:VEVENT
END:VCALENDAR