BEGIN:VCALENDAR
VERSION:2.0
METHOD:PUBLISH
PRODID:-//Missouri State University/Calendar of Events//EN
CALSCALE:GREGORIAN
X-WR-TIMEZONE:America/Chicago
BEGIN:VTIMEZONE
TZID:America/Chicago
BEGIN:DAYLIGHT
TZOFFSETFROM:-0600
TZOFFSETTO:-0500
DTSTART:20070311T020000
RRULE:FREQ=YEARLY;BYMONTH=3;BYDAY=2SU
TZNAME:CDT
END:DAYLIGHT
BEGIN:STANDARD
TZOFFSETFROM:-0500
TZOFFSETTO:-0600
DTSTART:20071104T020000
RRULE:FREQ=YEARLY;BYMONTH=11;BYDAY=1SU
TZNAME:CST
END:STANDARD
END:VTIMEZONE
BEGIN:VEVENT
UID:c85f87d1-feeb-4c9a-8e28-75f55784cf30.228196@calendar.missouristate.edu
CREATED:20230605T180732Z
LAST-MODIFIED:20230605T180732Z
LOCATION:Plaster Student Union\, Robert W. Theater
SUMMARY:Blockbuster #3
DESCRIPTION:MOVIE NIGHT! The movie will be a recently released movie. Ther
 e will be prizes and snacks for all those that attend.
X-ALT-DESC;FMTTYPE=text/html:&lt;html&gt;&lt;head&gt;&lt;title&gt;&lt;/title&gt;&lt;/head&gt;&lt;body&gt;&lt;p&gt;&lt;s
 pan&gt;MOVIE NIGHT! The movie will be a recently released movie. There will 
 be prizes and snacks for all those that attend.&lt;/span&gt;&lt;/p&gt;&lt;/body&gt;&lt;/html&gt;
DTSTART;TZID=America/Chicago:20231103T190000
DTEND;TZID=America/Chicago:20231103T220000
SEQUENCE:0
URL:https://calendar.missouristate.edu/viewevent.aspx?eventid=119604&amp;occur
 renceid=228196
CATEGORIES:Current Students
END:VEVENT
END:VCALENDAR