BEGIN:VCALENDAR
VERSION:2.0
METHOD:PUBLISH
PRODID:-//Missouri State University/Calendar of Events//EN
CALSCALE:GREGORIAN
X-WR-TIMEZONE:America/Chicago
BEGIN:VTIMEZONE
TZID:America/Chicago
BEGIN:DAYLIGHT
TZOFFSETFROM:-0600
TZOFFSETTO:-0500
DTSTART:20070311T020000
RRULE:FREQ=YEARLY;BYMONTH=3;BYDAY=2SU
TZNAME:CDT
END:DAYLIGHT
BEGIN:STANDARD
TZOFFSETFROM:-0500
TZOFFSETTO:-0600
DTSTART:20071104T020000
RRULE:FREQ=YEARLY;BYMONTH=11;BYDAY=1SU
TZNAME:CST
END:STANDARD
END:VTIMEZONE
BEGIN:VEVENT
UID:f441c03a-c30d-4842-afbf-8b5cbf4824da.228204@calendar.missouristate.edu
CREATED:20230607T195439Z
LAST-MODIFIED:20230607T195439Z
LOCATION:Plaster Student Union\, Robert W. Theater
SUMMARY:Fall Comedian
DESCRIPTION:BIG GIVEAWAY at our comedy show!\n\n\n Come have a few laughs 
 with us for the hour and have a chance to win our giveaway. 
X-ALT-DESC;FMTTYPE=text/html:&lt;html&gt;&lt;head&gt;&lt;title&gt;&lt;/title&gt;&lt;/head&gt;&lt;body&gt;&lt;p&gt;&lt;s
 pan&gt;BIG GIVEAWAY at our comedy show!&lt;/span&gt;&lt;/p&gt;\n&lt;p&gt;&lt;span&gt; Come have a fe
 w laughs with us for the hour and have a chance to win our giveaway.&amp;nbsp
 \;&lt;/span&gt;&lt;/p&gt;&lt;/body&gt;&lt;/html&gt;
DTSTART;TZID=America/Chicago:20231107T190000
DTEND;TZID=America/Chicago:20231107T200000
SEQUENCE:0
URL:https://calendar.missouristate.edu/viewevent.aspx?eventid=119611&amp;occur
 renceid=228204
CATEGORIES:Current Students
END:VEVENT
END:VCALENDAR