BEGIN:VCALENDAR
VERSION:2.0
METHOD:PUBLISH
PRODID:-//Missouri State University/Calendar of Events//EN
CALSCALE:GREGORIAN
X-WR-TIMEZONE:America/Chicago
BEGIN:VTIMEZONE
TZID:America/Chicago
BEGIN:DAYLIGHT
TZOFFSETFROM:-0600
TZOFFSETTO:-0500
DTSTART:20070311T020000
RRULE:FREQ=YEARLY;BYMONTH=3;BYDAY=2SU
TZNAME:CDT
END:DAYLIGHT
BEGIN:STANDARD
TZOFFSETFROM:-0500
TZOFFSETTO:-0600
DTSTART:20071104T020000
RRULE:FREQ=YEARLY;BYMONTH=11;BYDAY=1SU
TZNAME:CST
END:STANDARD
END:VTIMEZONE
BEGIN:VEVENT
UID:08770433-9c1a-4ba7-a6f9-8df4a9567be6.228206@calendar.missouristate.edu
CREATED:20230607T195811Z
LAST-MODIFIED:20230607T195811Z
LOCATION:Plaster Student Union\, Robert W. Theater
SUMMARY:Non Theme Film #3
DESCRIPTION:Come enjoy a free movie\, snacks\, and a giveaway. We will be 
 showing the same movies\, but they will not be following any cohesive the
 me. 
X-ALT-DESC;FMTTYPE=text/html:&lt;html&gt;&lt;head&gt;&lt;title&gt;&lt;/title&gt;&lt;/head&gt;&lt;body&gt;&lt;p&gt;Co
 me enjoy a free movie\, snacks\, and a giveaway. We will be showing the s
 ame movies\, but they will not be following any cohesive theme.&amp;nbsp\;&lt;/p
 &gt;&lt;/body&gt;&lt;/html&gt;
DTSTART;TZID=America/Chicago:20231129T180000
DTEND;TZID=America/Chicago:20231129T210000
SEQUENCE:0
URL:https://calendar.missouristate.edu/viewevent.aspx?eventid=119613&amp;occur
 renceid=228206
CATEGORIES:Current Students
END:VEVENT
END:VCALENDAR