BEGIN:VCALENDAR
VERSION:2.0
METHOD:PUBLISH
PRODID:-//Missouri State University/Calendar of Events//EN
CALSCALE:GREGORIAN
X-WR-TIMEZONE:America/Chicago
BEGIN:VTIMEZONE
TZID:America/Chicago
BEGIN:DAYLIGHT
TZOFFSETFROM:-0600
TZOFFSETTO:-0500
DTSTART:20070311T020000
RRULE:FREQ=YEARLY;BYMONTH=3;BYDAY=2SU
TZNAME:CDT
END:DAYLIGHT
BEGIN:STANDARD
TZOFFSETFROM:-0500
TZOFFSETTO:-0600
DTSTART:20071104T020000
RRULE:FREQ=YEARLY;BYMONTH=11;BYDAY=1SU
TZNAME:CST
END:STANDARD
END:VTIMEZONE
BEGIN:VEVENT
UID:46496470-634d-4290-bf87-6caf4ad19257_10036@calendar.missouristate.edu
CREATED:20230613T225331Z
LAST-MODIFIED:20230613T225331Z
LOCATION:
SUMMARY:Public Affairs Conference 2023 - Navigating the Now: Tradition\, i
 nnovation and wisdom in a world of change
DESCRIPTION:The 20th annual Public Affairs Conference is Sept. 26-28\, 202
 3\, with a mix of free\, in-person speakers and live virtual panel sessio
 ns that explores the theme\, Navigating the Now: Tradition\, innovation a
 nd wisdom in a world of change.
X-ALT-DESC;FMTTYPE=text/html:&lt;html&gt;&lt;head&gt;&lt;title&gt;&lt;/title&gt;&lt;/head&gt;&lt;body&gt;&lt;p&gt;&lt;s
 pan&gt;The 20th annual&amp;nbsp\;&lt;a href="https://publicaffairs.missouristate.ed
 u/2023/default.htm"&gt;Public Affairs Conference&lt;/a&gt; is Sept. 26-28\, 2023\,
  with a mix of free\, in-person speakers and live virtual panel sessions 
 that explores the theme\, &lt;a href="https://publicaffairs.missouristate.ed
 u/public-affairs-theme-2023.htm"&gt;Navigating the Now: Tradition\, innovati
 on and wisdom in a world of change&lt;/a&gt;.&lt;/span&gt;&lt;/p&gt;&lt;/body&gt;&lt;/html&gt;
DTSTART;VALUE=DATE:20230926
DTEND;VALUE=DATE:20230927
RRULE:FREQ=DAILY;UNTIL=20230929
SEQUENCE:0
URL:https://publicaffairs.missouristate.edu/2023/
CATEGORIES:Public,Alumni,Current Students,Faculty,Future Students,Staff
END:VEVENT
END:VCALENDAR