BEGIN:VCALENDAR
VERSION:2.0
METHOD:PUBLISH
PRODID:-//Missouri State University/Calendar of Events//EN
CALSCALE:GREGORIAN
X-WR-TIMEZONE:America/Chicago
BEGIN:VTIMEZONE
TZID:America/Chicago
BEGIN:DAYLIGHT
TZOFFSETFROM:-0600
TZOFFSETTO:-0500
DTSTART:20070311T020000
RRULE:FREQ=YEARLY;BYMONTH=3;BYDAY=2SU
TZNAME:CDT
END:DAYLIGHT
BEGIN:STANDARD
TZOFFSETFROM:-0500
TZOFFSETTO:-0600
DTSTART:20071104T020000
RRULE:FREQ=YEARLY;BYMONTH=11;BYDAY=1SU
TZNAME:CST
END:STANDARD
END:VTIMEZONE
BEGIN:VEVENT
UID:bf8512ee-827a-4e37-8e96-09a1b46d9d35.228217@calendar.missouristate.edu
CREATED:20230628T210048Z
LAST-MODIFIED:20230628T210048Z
LOCATION:
SUMMARY:Public Affairs Conference 2023 - Charting a Course to Global Food 
 Security
DESCRIPTION:As defined at the 1996 World Food Summit\, food security exist
 s when “all people\, at all times\, have physical and economic access to 
 sufficient safe and nutritious food.” Diminishing world hunger requires n
 ot just the resources to make food\, but resilience in the systems of pro
 duction and distribution to weather physical\, logistic\, climatological 
 and socio-political challenges. How can these various dimensions continue
  to adapt to meet the needs of the global population? How can technologic
 al developments overcome political obstacles\, misinformation or social a
 nd emotional prejudices? 
X-ALT-DESC;FMTTYPE=text/html:&lt;html&gt;&lt;head&gt;&lt;title&gt;&lt;/title&gt;&lt;/head&gt;&lt;body&gt;&lt;p&gt;&lt;s
 pan&gt;As defined at the 1996 World Food Summit\, food security exists when 
 “all people\, at all times\, have physical and economic access to suffici
 ent safe and nutritious food.” Diminishing world hunger requires not just
  the resources to make food\, but resilience in the systems of production
  and distribution to weather physical\, logistic\, climatological and soc
 io-political challenges. How can these various dimensions continue to ada
 pt to meet the needs of the global population? How can technological deve
 lopments overcome political obstacles\, misinformation or social and emot
 ional prejudices?&amp;nbsp\;&lt;/span&gt;&lt;/p&gt;&lt;/body&gt;&lt;/html&gt;
DTSTART;TZID=America/Chicago:20230927T101000
DTEND;TZID=America/Chicago:20230927T110000
SEQUENCE:0
URL:https://publicaffairs.missouristate.edu/2023/
CATEGORIES:Public,Alumni,Current Students,Faculty,Future Students,Staff
END:VEVENT
END:VCALENDAR