BEGIN:VCALENDAR
VERSION:2.0
METHOD:PUBLISH
PRODID:-//Missouri State University/Calendar of Events//EN
CALSCALE:GREGORIAN
X-WR-TIMEZONE:America/Chicago
BEGIN:VTIMEZONE
TZID:America/Chicago
BEGIN:DAYLIGHT
TZOFFSETFROM:-0600
TZOFFSETTO:-0500
DTSTART:20070311T020000
RRULE:FREQ=YEARLY;BYMONTH=3;BYDAY=2SU
TZNAME:CDT
END:DAYLIGHT
BEGIN:STANDARD
TZOFFSETFROM:-0500
TZOFFSETTO:-0600
DTSTART:20071104T020000
RRULE:FREQ=YEARLY;BYMONTH=11;BYDAY=1SU
TZNAME:CST
END:STANDARD
END:VTIMEZONE
BEGIN:VEVENT
UID:d79bcd16-b7a0-4204-87d0-bd9c3fac828b.228220@calendar.missouristate.edu
CREATED:20230628T205343Z
LAST-MODIFIED:20230628T205343Z
LOCATION:
SUMMARY:Public Affairs Conference 2023 - Human Expression\, Empathy and th
 e Social Experience
DESCRIPTION:No one truly exists as a coherent being without a means of exp
 ressing their identity\, even privately.  Perceptions\, emotions\, memori
 es\, and beliefs all help to shape a person’s understanding of themselves
 \, as well as how they are known to others.  If meaning is created throug
 h language—be it a language of words\, images\, music\, or movement—then 
 it is unsurprising that\, as research suggests\, engaging with artistic f
 orms of expression stimulates the development of empathy.  How does an in
 tensely technologized and mediated society affect an individual’s means o
 f expression? In a time when art and language are easily generated by var
 ious forms of technology\, how can understanding and engaging in various 
 forms of expression and empathy help people to navigate and contribute to
  the personal\, professional and social experience of being human?   
X-ALT-DESC;FMTTYPE=text/html:&lt;html&gt;&lt;head&gt;&lt;title&gt;&lt;/title&gt;&lt;/head&gt;&lt;body&gt;&lt;p&gt;&lt;s
 pan&gt;No one truly exists as a coherent being without a means of expressing
  their identity\, even privately.&amp;nbsp\; Perceptions\, emotions\, memorie
 s\, and beliefs all help to shape a person’s understanding of themselves\
 , as well as how they are known to others.&amp;nbsp\; If meaning is created t
 hrough language—be it a language of words\, images\, music\, or movement—
 then it is unsurprising that\, as research suggests\, engaging with artis
 tic forms of expression stimulates the development of empathy.&amp;nbsp\; How
  does an intensely technologized and mediated society affect an individua
 l’s means of expression? In a time when art and language are easily gener
 ated by various forms of technology\, how can understanding and engaging 
 in various forms of expression and empathy help people to navigate and co
 ntribute to the personal\, professional and social experience of being hu
 man?&amp;nbsp\; &amp;nbsp\;&lt;/span&gt;&lt;/p&gt;&lt;/body&gt;&lt;/html&gt;
DTSTART;TZID=America/Chicago:20230927T111500
DTEND;TZID=America/Chicago:20230927T120500
SEQUENCE:0
URL:https://publicaffairs.missouristate.edu/2023/
CATEGORIES:Public,Alumni,Current Students,Faculty,Future Students,Staff
END:VEVENT
END:VCALENDAR