BEGIN:VCALENDAR
VERSION:2.0
METHOD:PUBLISH
PRODID:-//Missouri State University/Calendar of Events//EN
CALSCALE:GREGORIAN
X-WR-TIMEZONE:America/Chicago
BEGIN:VTIMEZONE
TZID:America/Chicago
BEGIN:DAYLIGHT
TZOFFSETFROM:-0600
TZOFFSETTO:-0500
DTSTART:20070311T020000
RRULE:FREQ=YEARLY;BYMONTH=3;BYDAY=2SU
TZNAME:CDT
END:DAYLIGHT
BEGIN:STANDARD
TZOFFSETFROM:-0500
TZOFFSETTO:-0600
DTSTART:20071104T020000
RRULE:FREQ=YEARLY;BYMONTH=11;BYDAY=1SU
TZNAME:CST
END:STANDARD
END:VTIMEZONE
BEGIN:VEVENT
UID:9111ae40-b231-4c13-9447-1dcc2e6c0992.228227@calendar.missouristate.edu
CREATED:20230628T210710Z
LAST-MODIFIED:20230628T210710Z
LOCATION:
SUMMARY:Public Affairs Conference 2023 - Walking the Line Between Technolo
 gy\, Creativity and Mental Wellness
DESCRIPTION:Two powerful forces impacting the current moment may seem unco
 nnected except for the fact that they are both available through the ever
 -present cell phone. On the one hand\, phone technology and media platfor
 ms make available a world of creativity unbounded by formal training\, ed
 itorial gatekeeping\, or the vagaries of the consumer marketplace. Howeve
 r\, they also perpetuate the visibility of traumatic events through the p
 roduction and endless reproduction of videos\, images\, and stories. How 
 does one process the juxtaposition of painful\, unjust events\, and pet c
 ats wearing sandwich bread as hats? Is society becoming hopelessly desens
 itized to the struggles around us\, or can the creativity afforded by new
  technologies be utilized to ethically navigate the negative. How can we 
 use technology to lean into the beauty of our own and others’ lives?  
X-ALT-DESC;FMTTYPE=text/html:&lt;html&gt;&lt;head&gt;&lt;title&gt;&lt;/title&gt;&lt;/head&gt;&lt;body&gt;&lt;p&gt;&lt;s
 pan&gt;Two powerful forces impacting the current moment may seem unconnected
  except for the fact that they are both available through the ever-presen
 t cell phone. On the one hand\, phone technology and media platforms make
  available a world of creativity unbounded by formal training\, editorial
  gatekeeping\, or the vagaries of the consumer marketplace. However\, the
 y also perpetuate the visibility of traumatic events through the producti
 on and endless reproduction of videos\, images\, and stories. How does on
 e process the juxtaposition of painful\, unjust events\, and pet cats wea
 ring sandwich bread as hats? Is society becoming hopelessly desensitized 
 to the struggles around us\, or can the creativity afforded by new techno
 logies be utilized to ethically navigate the negative. How can we use tec
 hnology to lean into the beauty of our own and others’ lives?&amp;nbsp\;&amp;nbsp
 \;&lt;/span&gt;&lt;/p&gt;&lt;/body&gt;&lt;/html&gt;
DTSTART;TZID=America/Chicago:20230927T153500
DTEND;TZID=America/Chicago:20230927T162500
SEQUENCE:0
URL:https://publicaffairs.missouristate.edu/2023/
CATEGORIES:Public,Alumni,Current Students,Faculty,Future Students,Staff
END:VEVENT
END:VCALENDAR