BEGIN:VCALENDAR
VERSION:2.0
METHOD:PUBLISH
PRODID:-//Missouri State University/Calendar of Events//EN
CALSCALE:GREGORIAN
X-WR-TIMEZONE:America/Chicago
BEGIN:VTIMEZONE
TZID:America/Chicago
BEGIN:DAYLIGHT
TZOFFSETFROM:-0600
TZOFFSETTO:-0500
DTSTART:20070311T020000
RRULE:FREQ=YEARLY;BYMONTH=3;BYDAY=2SU
TZNAME:CDT
END:DAYLIGHT
BEGIN:STANDARD
TZOFFSETFROM:-0500
TZOFFSETTO:-0600
DTSTART:20071104T020000
RRULE:FREQ=YEARLY;BYMONTH=11;BYDAY=1SU
TZNAME:CST
END:STANDARD
END:VTIMEZONE
BEGIN:VEVENT
UID:52995588-ee40-4e80-81d8-2c75ed99b70a.228228@calendar.missouristate.edu
CREATED:20230628T212204Z
LAST-MODIFIED:20230628T212204Z
LOCATION:Plaster Student Union\, Robert W. Theater
SUMMARY:Public Affairs Conference 2023 - Plenary Speaker Dr. Shay-Akil McL
 ean:  RACE/ISM: A Human Ecological System
DESCRIPTION:Presenter: Dr. Shay-Akil McLean\n\n\nRace/ism was created by E
 uropean colonizers to seize land\, labor and gain control of the means of
  production. For every capitalist crisis\, market disaster and form of re
 sistance that colonizers met from colonized peoples\, they created a “new
  race.” Using a historically grounded analysis of race/ism and Darwinian 
 evolutionary human biology\, McLean discusses the role of racist colonial
  capitalism in creating and reproducing the major health inequities we se
 e in colonized populations.
X-ALT-DESC;FMTTYPE=text/html:&lt;html&gt;&lt;head&gt;&lt;title&gt;&lt;/title&gt;&lt;/head&gt;&lt;body&gt;&lt;p&gt;&lt;s
 pan&gt;Presenter: &lt;/span&gt;Dr. Shay-Akil McLean&lt;/p&gt;\n&lt;p&gt;&lt;span&gt;Race/ism was cre
 ated by European colonizers to seize land\, labor and gain control of the
  means of production. For every capitalist crisis\, market disaster and f
 orm of resistance that colonizers met from colonized peoples\, they creat
 ed a “new race.” Using a historically grounded analysis of race/ism and D
 arwinian evolutionary human biology\, McLean discusses the role of racist
  colonial capitalism in creating and reproducing the major health inequit
 ies we see in colonized populations.&lt;/span&gt;&lt;/p&gt;&lt;/body&gt;&lt;/html&gt;
DTSTART;TZID=America/Chicago:20230927T190000
DTEND;TZID=America/Chicago:20230927T200000
SEQUENCE:0
URL:https://publicaffairs.missouristate.edu/2023/
CATEGORIES:Public,Alumni,Current Students,Faculty,Future Students,Staff
END:VEVENT
END:VCALENDAR