BEGIN:VCALENDAR
VERSION:2.0
METHOD:PUBLISH
PRODID:-//Missouri State University/Calendar of Events//EN
CALSCALE:GREGORIAN
X-WR-TIMEZONE:America/Chicago
BEGIN:VTIMEZONE
TZID:America/Chicago
BEGIN:DAYLIGHT
TZOFFSETFROM:-0600
TZOFFSETTO:-0500
DTSTART:20070311T020000
RRULE:FREQ=YEARLY;BYMONTH=3;BYDAY=2SU
TZNAME:CDT
END:DAYLIGHT
BEGIN:STANDARD
TZOFFSETFROM:-0500
TZOFFSETTO:-0600
DTSTART:20071104T020000
RRULE:FREQ=YEARLY;BYMONTH=11;BYDAY=1SU
TZNAME:CST
END:STANDARD
END:VTIMEZONE
BEGIN:VEVENT
UID:f59a3678-109d-4914-a919-5cbdb6eec8ea.228230@calendar.missouristate.edu
CREATED:20230628T210823Z
LAST-MODIFIED:20230628T210823Z
LOCATION:
SUMMARY:Public Affairs Conference 2023 - Human Expression\, Empathy and th
 e Social Experience
DESCRIPTION:In the United States and beyond\, the terrain occupied by high
 er education\, business and health care continues to respond to the pande
 mic’s aftershocks. Unprecedented stresses on college students have affect
 ed academic preparation and performance\; colleges themselves continue to
  feel the social\, academic and financial effects of the crisis. Beyond t
 he university\, businesses and overwhelmed health care facilities find th
 emselves with new challenges to manage\, from changing labor forces and s
 upply chain disruptions to the constant emergence of new and complex cybe
 rsecurity threats and data privacy issues. What strategies must emerge to
  ensure educational institutions and workplaces stabilize and solidly bri
 dge the Covid-era gap? How can these industries collaborate to better add
 ress new realities on a local\, national and/or global level?
X-ALT-DESC;FMTTYPE=text/html:&lt;html&gt;&lt;head&gt;&lt;title&gt;&lt;/title&gt;&lt;/head&gt;&lt;body&gt;&lt;p&gt;&lt;s
 pan&gt;In the United States and beyond\, the terrain occupied by higher educ
 ation\, business and health care continues to respond to the pandemic’s a
 ftershocks. Unprecedented stresses on college students have affected acad
 emic preparation and performance\; colleges themselves continue to feel t
 he social\, academic and financial effects of the crisis. Beyond the univ
 ersity\, businesses and overwhelmed health care facilities find themselve
 s with new challenges to manage\, from changing labor forces and supply c
 hain disruptions to the constant emergence of new and complex cybersecuri
 ty threats and data privacy issues. What strategies must emerge to ensure
  educational institutions and workplaces stabilize and solidly bridge the
  Covid-era gap? How can these industries collaborate to better address ne
 w realities on a local\, national and/or global level?&lt;/span&gt;&lt;/p&gt;&lt;/body&gt;&lt;
 /html&gt;
DTSTART;TZID=America/Chicago:20230928T093000
DTEND;TZID=America/Chicago:20230928T102000
SEQUENCE:0
URL:https://publicaffairs.missouristate.edu/2023/
CATEGORIES:Public,Alumni,Current Students,Faculty,Future Students,Staff
END:VEVENT
END:VCALENDAR