BEGIN:VCALENDAR
VERSION:2.0
METHOD:PUBLISH
PRODID:-//Missouri State University/Calendar of Events//EN
CALSCALE:GREGORIAN
X-WR-TIMEZONE:America/Chicago
BEGIN:VTIMEZONE
TZID:America/Chicago
BEGIN:DAYLIGHT
TZOFFSETFROM:-0600
TZOFFSETTO:-0500
DTSTART:20070311T020000
RRULE:FREQ=YEARLY;BYMONTH=3;BYDAY=2SU
TZNAME:CDT
END:DAYLIGHT
BEGIN:STANDARD
TZOFFSETFROM:-0500
TZOFFSETTO:-0600
DTSTART:20071104T020000
RRULE:FREQ=YEARLY;BYMONTH=11;BYDAY=1SU
TZNAME:CST
END:STANDARD
END:VTIMEZONE
BEGIN:VEVENT
UID:94cac6c2-70a3-4519-a1d8-d6563837fa96.228237@calendar.missouristate.edu
CREATED:20230628T211505Z
LAST-MODIFIED:20230628T211505Z
LOCATION:
SUMMARY:Public Affairs Conference 2023 - Balancing Innovation and Security
  in the World of Artificial Intelligence
DESCRIPTION:Forecasting what customers want has been transformed by modern
  technology.  Industries are finding that traditional methods of analyzin
 g consumers’ awareness and preferences are no longer viable. Fortunately\
 , the incorporation of artificial intelligence is here.  But what are the
  implications of bot technology for human jobs\, personal privacy\, and c
 ybersecurity? With competing interests in business\, security\, law and c
 onsumer desire\, how can technological decisions be best for all? Can bus
 iness balance innovation and tradition in this digital age? How much will
  individuals give up for the ultimate customer experience? What other opp
 ortunities and challenges does AI present to us as individuals\, as a soc
 iety\, and as a secure nation? 
X-ALT-DESC;FMTTYPE=text/html:&lt;html&gt;&lt;head&gt;&lt;title&gt;&lt;/title&gt;&lt;/head&gt;&lt;body&gt;&lt;p&gt;&lt;s
 pan&gt;Forecasting what customers want has been transformed by modern techno
 logy.&amp;nbsp\; Industries are finding that traditional methods of analyzing
  consumers’ awareness and preferences are no longer viable. Fortunately\,
  the incorporation of artificial intelligence is here.&amp;nbsp\; But what ar
 e the implications of bot technology for human jobs\, personal privacy\, 
 and cybersecurity? With competing interests in business\, security\, law 
 and consumer desire\, how can technological decisions be best for all? Ca
 n business balance innovation and tradition in this digital age? How much
  will individuals give up for the ultimate customer experience? What othe
 r opportunities and challenges does AI present to us as individuals\, as 
 a society\, and as a secure nation?&amp;nbsp\;&lt;/span&gt;&lt;/p&gt;&lt;/body&gt;&lt;/html&gt;
DTSTART;TZID=America/Chicago:20230928T153000
DTEND;TZID=America/Chicago:20230928T163000
SEQUENCE:0
URL:https://publicaffairs.missouristate.edu/2023/
CATEGORIES:Public,Alumni,Current Students,Faculty,Future Students,Staff
END:VEVENT
END:VCALENDAR