BEGIN:VCALENDAR
VERSION:2.0
METHOD:PUBLISH
PRODID:-//Missouri State University/Calendar of Events//EN
CALSCALE:GREGORIAN
X-WR-TIMEZONE:America/Chicago
BEGIN:VTIMEZONE
TZID:America/Chicago
BEGIN:DAYLIGHT
TZOFFSETFROM:-0600
TZOFFSETTO:-0500
DTSTART:20070311T020000
RRULE:FREQ=YEARLY;BYMONTH=3;BYDAY=2SU
TZNAME:CDT
END:DAYLIGHT
BEGIN:STANDARD
TZOFFSETFROM:-0500
TZOFFSETTO:-0600
DTSTART:20071104T020000
RRULE:FREQ=YEARLY;BYMONTH=11;BYDAY=1SU
TZNAME:CST
END:STANDARD
END:VTIMEZONE
BEGIN:VEVENT
UID:48970bd2-8b5d-4b81-99d6-d2507880eccf.228238@calendar.missouristate.edu
CREATED:20230628T212206Z
LAST-MODIFIED:20230628T212206Z
LOCATION:Plaster Student Union\, Robert W. Theater
SUMMARY:Public Affairs Conference 2023 - Plenary Session with ILL-Abilitie
 s International Dance Crew
DESCRIPTION:ILL-ABILITIES™ is an International Breakdance Crew comprised o
 f eight members from around the world. This crew originated from an idea 
 by Montreal-based dancer/motivational speaker Luca “Lazylegz” Patuelli to
  create an all-star team of some of the world’s best differently-abled da
 ncers. ILL-ABILITIES™ was officially formed in 2007\, with four founding 
 members: Lazyegz\, Tommy Guns\, Kujo and Checho\, whose goal was to compe
 te and perform internationally showing the world that anything is possibl
 e.
X-ALT-DESC;FMTTYPE=text/html:&lt;html&gt;&lt;head&gt;&lt;title&gt;&lt;/title&gt;&lt;/head&gt;&lt;body&gt;&lt;p&gt;IL
 L-ABILITIES™ is an International Breakdance Crew comprised of eight membe
 rs from around the world. This crew originated from an idea by Montreal-b
 ased dancer/motivational speaker Luca “Lazylegz” Patuelli to create an al
 l-star team of some of the world’s best differently-abled dancers. ILL-AB
 ILITIES™ was officially formed in 2007\, with four founding members: Lazy
 egz\, Tommy Guns\, Kujo and Checho\, whose goal was to compete and perfor
 m internationally showing the world that anything is possible.&lt;/p&gt;\n&lt;p&gt;&lt;/
 p&gt;&lt;/body&gt;&lt;/html&gt;
DTSTART;TZID=America/Chicago:20230928T190000
DTEND;TZID=America/Chicago:20230928T200000
SEQUENCE:0
URL:https://publicaffairs.missouristate.edu/2023/
CATEGORIES:Public,Alumni,Current Students,Faculty,Future Students,Staff
END:VEVENT
END:VCALENDAR